BEGIN:VCALENDAR
PRODID:NingEventWidget-v1
VERSION:2.0
METHOD:PUBLISH
BEGIN:VTIMEZONE
TZID:America/Los_Angeles
X-LIC-LOCATION:America/Los_Angeles
BEGIN:DAYLIGHT
TZOFFSETFROM:-0800
TZOFFSETTO:-0700
TZNAME:PDT
DTSTART:19700308T020000
RRULE:FREQ=YEARLY;BYMONTH=3;BYDAY=2SU
END:DAYLIGHT
BEGIN:STANDARD
TZOFFSETFROM:-0700
TZOFFSETTO:-0800
TZNAME:PST
DTSTART:19701101T020000
RRULE:FREQ=YEARLY;BYMONTH=11;BYDAY=1SU
END:STANDARD
END:VTIMEZONE
BEGIN:VEVENT
UID:1464587:Event:33469
DTSTAMP:20260421T053528Z
SUMMARY:11th Annual POWER TO THE PEACEFUL FESTIVAL FUNDRAISER
DESCRIPTION:COME JOIN US FOR OUR 11th ANNUAL POWER TO THE PEACEFUL FUN
 DRAISER! MORNING YOGA and EVENING GALA - SAT JUNE 6th!\n\nThe Power to
  the Peaceful Fundraiser will take place in the beautiful Green Ballro
 om and spacious Balcony of the San Francisco War Memorial & Performing
  Arts Center. If you haven't been to this gorgeous, historic San Franc
 isco building - now is the time!\n\nWe will begin the day with yoga an
 d music! Join MICHAEL FRANTI and special guest J BOWMAN for an afterno
 on of yoga and music to benefit this year's FESTIVAL! Guest teachers S
 IANNA SHERMAN and DIANA VITANTONIO will lead you through a journey of 
 joyful exploration and inspiration while guided by the live acoustic m
 usic of Michael Franti. You are guaranteed to stretch, play, sing and 
 dance in one of the most beautiful venues San Francisco has to offer! 
 Take one class or stay for both! Bring your own yoga mat, towel and wa
 ter - but reserve your mat spot ASAP!\n\nCome back in the afternoon an
 d vibe with us through the evening as we host a special program of mus
 ic, eclectic riddims and yummy finger foods, organic Lagunitas beer an
 d a variety of organic wines. Live music will feature an intimate acou
 stic performance by Michael Franti & Friends and the groovy sounds of 
 DJ's and other special guests. We will also have a silent auction with
  many exciting items and experiences to share!\nPower To The Peaceful 
 events and organization want to inspire and create a focused internati
 onal community and activate you to plug in and pledge service to help 
 the planet!\n\n\nEVENT SPONSORS:\nwww.yogatreesf.com\nwww.lagunitas.co
 m\nwww.powertothepeaceful.org\nwww.fusicology.com\n\nSAT SEPT 12th - 1
 1th ANNUAL POWER TO THE PEACEFUL FESTIVAL!\n\nSpeedway Meadow Golden G
 ate Park, SF\nFestival starts at 11am.\nJoin thousands of people at Sp
 eedway Meadow, Golden Gate Park, SF, CA and be part of the internation
 al community coming together to build, inspire and pledge service towa
 rd those in need and help the planet.\n\n\n\nThe Power to the Peaceful
  Festival has become a premiere San Francisco tradition in its elevent
 h year and is one of the largest free annual music, art and action spo
 rts events in the US with over 70,000 attendees, 200 exhibitors, vendo
 rs, international musicians, DJs, athletes, artists and speakers.\n\n\
 n\nThe Power to the Peaceful Festival (PTTP) is a fun, educational, hi
 p, diverse and family oriented event with International Musicians on t
 he main stage, a DJ tent, open-air art gallery, eco village, social ju
 stice forum, green vendors and food booths, and a healing arts tent, a
 s well as a kids zone offering arts and crafts, live theater, music, a
 ctivities and a parade. PTTP has grown from a local community based ev
 ent to an international destination attracting attendees from Japan, E
 urope, Australia and South America.\n\n\n\n\n\nSUN SEPT 13th 1st ANNUA
 L PTTP SYMPOSIUM & YOGA JAM\n\nHerbst Theater and Green Ballroom\n\nSa
 n Francisco War Memorial & Performing Arts Center\n\n410 Van Ness Ave,
  SF, CA\n\n\n\nIn partnership with CARE Organization, we will host the
  PTTP YOGA JAM & BRAZILIAN CAPOEIRA/DANCE WORKSHOP!\nCARE is an organi
 zation which focuses on empowerment of girls and women and establishes
  effective and sustainable ways of uplifting communities international
 ly. We encourage you to check out their website.\nThis year's PTTP Yog
 a Jam will be sponsored by San Francisco's premiere yoga studio Yoga T
 ree.\nSchedule for the day's events coming SOON!\n\nWe appreciate the 
 Power To The Peaceful community and feel honored to meet a handful of 
 you through at our events. Being of service to those in need is a bles
 sing and empowering to society and humanity. Thank you for being of se
 rvice. We are proud to be part of positive change.\n\nFor more informa
 tion visit https://trueskool.com/events/11th-annual-power-to-the
DTSTART;TZID=America/Los_Angeles:20090606T000000
DTEND;TZID=America/Los_Angeles:20090606T235900
CATEGORIES:yoga, "&", music
LOCATION:The GREEN ROOM at San Francisco War Memorial Building
WEBSITE:http://www.powertothepeaceful.org/
URL:http://www.powertothepeaceful.org/
CONTACT:4158652170
ORGANIZER:POWER TO THE PEACEFUL.org
ATTACH;FMTTYPE="image/jpeg":
ATTENDEE;ROLE=REQ-PARTICIPANT;PARTSTAT=ACCEPTED;RSVP=TRUE;CN="Inhouse 
 Talent":https://trueskool.com/profile/InhouseTalent
END:VEVENT
END:VCALENDAR
