BEGIN:VCALENDAR
PRODID:NingEventWidget-v1
VERSION:2.0
METHOD:PUBLISH
BEGIN:VTIMEZONE
TZID:America/Los_Angeles
X-LIC-LOCATION:America/Los_Angeles
BEGIN:DAYLIGHT
TZOFFSETFROM:-0800
TZOFFSETTO:-0700
TZNAME:PDT
DTSTART:19700308T020000
RRULE:FREQ=YEARLY;BYMONTH=3;BYDAY=2SU
END:DAYLIGHT
BEGIN:STANDARD
TZOFFSETFROM:-0700
TZOFFSETTO:-0800
TZNAME:PST
DTSTART:19701101T020000
RRULE:FREQ=YEARLY;BYMONTH=11;BYDAY=1SU
END:STANDARD
END:VTIMEZONE
BEGIN:VEVENT
UID:1464587:Event:40457
DTSTAMP:20260421T220750Z
SUMMARY:11th Annual Power to the Peaceful Festival feat. Michael Frant
 i & Spearhead, Alanis Morissette, Sly & Robbie, Ren the Vinyl Archaeol
 ogist
DESCRIPTION:SATURDAY-SUNDAY, SEPTEMBER 12-13\nThe 11th Annual Power to
  the Peaceful Festival\n\nThe Power to the Peaceful Festival has becom
 e a premiere San Francisco tradition in its eleventh year and is one 
 of the largest free annual music, art and action sports events in the 
 US with over 70,000 attendees, 200 exhibitors, vendors, international 
 musicians, DJs, athletes, artists and speakers.\n\n\nFeaturing:\nMicha
 el Franti & Spearhead, Alanis Morissette, Sly & Robbie, Cherine Anders
 on, Vieux Farka Toure, Sellasie, Truth Universal...\n\nDJ Tent:\nMigue
 l Migs, Ren the Vinyl Archaeologist, DJ Zita, Adnan, DJ Hey Man\n\n\n@
  Speedway Meadow, Golden Gate Park, San Francisco\n9am-5pm, FREE, ALL 
 AGES.\nInfo: http://www.powertothepeaceful.org\n\nFor more information
  visit https://trueskool.com/events/11th-annual-power-to-the-2
DTSTART;TZID=America/Los_Angeles:20090912T090000
DTEND;TZID=America/Los_Angeles:20090912T170000
CATEGORIES:music, art, and, action, sports, events, concert, politics
LOCATION:Speedway Meadow (Golden Gate Park), San Francisco, CA
WEBSITE:http://www.powertothepeaceful.org
URL:http://www.powertothepeaceful.org
CONTACT:
ORGANIZER:Guerrilla Management, In House Talent, Michael Franti
ATTACH;FMTTYPE="image/jpeg":http://storage.ning.com/topology/rest/1.0/
 file/get/2247865504?profile=original
ATTENDEE;ROLE=REQ-PARTICIPANT;PARTSTAT=ACCEPTED;RSVP=TRUE;CN=BellaChao
 s:https://trueskool.com/profile/BellaChaos
ATTENDEE;ROLE=REQ-PARTICIPANT;PARTSTAT=ACCEPTED;RSVP=TRUE;CN="Ren the 
 Vinyl Archaeologist":https://trueskool.com/profile/xh51jvilojur
END:VEVENT
END:VCALENDAR
