BEGIN:VCALENDAR
PRODID:NingEventWidget-v1
VERSION:2.0
METHOD:PUBLISH
BEGIN:VTIMEZONE
TZID:America/Los_Angeles
X-LIC-LOCATION:America/Los_Angeles
BEGIN:DAYLIGHT
TZOFFSETFROM:-0800
TZOFFSETTO:-0700
TZNAME:PDT
DTSTART:19700308T020000
RRULE:FREQ=YEARLY;BYMONTH=3;BYDAY=2SU
END:DAYLIGHT
BEGIN:STANDARD
TZOFFSETFROM:-0700
TZOFFSETTO:-0800
TZNAME:PST
DTSTART:19701101T020000
RRULE:FREQ=YEARLY;BYMONTH=11;BYDAY=1SU
END:STANDARD
END:VTIMEZONE
BEGIN:VEVENT
UID:1464587:Event:33611
DTSTAMP:20260421T065806Z
SUMMARY:11th Annual Power to the Peaceful Festival Fundraiser
DESCRIPTION:\nCOME JOIN US FOR OUR 11th ANNUAL POWER TO THE PEACEFUL F
 UNDRAISER! MORNING YOGA and EVENING GALA - SAT JUNE 6th!\n\nThe Power 
 to the Peaceful Fundraiser will take place in the beautiful Green Ball
 room and spacious Balcony of the San Francisco War Memorial & Performi
 ng Arts Center. If you haven't been to this gorgeous, historic San Fra
 ncisco building - now is the time!\n\nWe will begin the day with yoga 
 and music! Join MICHAEL FRANTI and special guest J BOWMAN for an after
 noon of yoga and music to benefit this year's FESTIVAL! Guest teachers
  SIANNA SHERMAN and DIANA VITANTONIO will lead you through a journey o
 f joyful exploration and inspiration while guided by the live acoustic
  music of Michael Franti. You are guaranteed to stretch, play, sing an
 d dance in one of the most beautiful venues San Francisco has to offer
 ! Take one class or stay for both! Bring your own yoga mat, towel and 
 water - but reserve your mat spot ASAP!\n\nCome back in the afternoon 
 and vibe with us through the evening as we host a special program of m
 usic, eclectic riddims and yummy finger foods, organic Lagunitas beer 
 and a variety of organic wines. Live music will feature an intimate ac
 oustic performance by Michael Franti & Friends and the groovy sounds o
 f DJ's and other special guests. We will also have a silent auction wi
 th many exciting items and experiences to share!\nPower To The Peacefu
 l events and organization want to inspire and create a focused interna
 tional community and activate you to plug in and pledge service to hel
 p the planet!\n\n\nEVENT SPONSORS:\nwww.yogatreesf.com\nwww.lagunitas.
 com\nwww.powertothepeaceful.org\nwww.fusicology.com\n\nSAT SEPT 12th -
  11th ANNUAL POWER TO THE PEACEFUL FESTIVAL!\n\nSpeedway Meadow Golden
  Gate Park, SF\nFestival starts at 11am.\nJoin thousands of people at 
 Speedway Meadow, Golden Gate Park, SF, CA and be part of the internati
 onal community coming together to build, inspire and pledge service to
 ward those in need and help the planet.\n\n\n\nThe Power to the Peacef
 ul Festival has become a premiere San Francisco tradition in its eleve
 nth year and is one of the largest free annual music, art and action s
 ports events in the US with over 70,000 attendees, 200 exhibitors, ven
 dors, international musicians, DJs, athletes, artists and speakers.\n\
 n\n\nThe Power to the Peaceful Festival (PTTP) is a fun, educational, 
 hip, diverse and family oriented event with International Musicians on
  the main stage, a DJ tent, open-air art gallery, eco village, social 
 justice forum, green vendors and food booths, and a healing arts tent,
  as well as a kids zone offering arts and crafts, live theater, music,
  activities and a parade. PTTP has grown from a local community based 
 event to an international destination attracting attendees from Japan,
  Europe, Australia and South America.\n\n\n\n\n\nSUN SEPT 13th 1st ANN
 UAL PTTP SYMPOSIUM & YOGA JAM\n\nHerbst Theater and Green Ballroom\n\n
 San Francisco War Memorial & Performing Arts Center\n\n410 Van Ness Av
 e, SF, CA\n\n\n\nIn partnership with CARE Organization, we will host t
 he PTTP YOGA JAM & BRAZILIAN CAPOEIRA/DANCE WORKSHOP!\nCARE is an orga
 nization which focuses on empowerment of girls and women and establish
 es effective and sustainable ways of uplifting communities internation
 ally. We encourage you to check out their website.\nThis year's PTTP Y
 oga Jam will be sponsored by San Francisco's premiere yoga studio Yoga
  Tree.\nSchedule for the day's events coming SOON!\n\nWe appreciate th
 e Power To The Peaceful community and feel honored to meet a handful o
 f you through at our events. Being of service to those in need is a bl
 essing and empowering to society and humanity. Thank you for being of 
 service. We are proud to be part of positive change.\n\nFor more infor
 mation visit https://trueskool.com/events/11th-annual-power-to-the-1
DTSTART;TZID=America/Los_Angeles:20090606T110000
DTEND;TZID=America/Los_Angeles:20090606T190000
CATEGORIES:fundraiser, festival, michael, franti, spearhead, yoga, dj,
  acoustic
LOCATION:The Green Room, SF War Memorial + Performing Arts Ctr. (Herbs
 t Theatre), SF
WEBSITE:http://www.speargearstore.com
URL:http://www.speargearstore.com
CONTACT:
ORGANIZER:Guerrilla Management
ATTACH;FMTTYPE="image/jpeg":http://storage.ning.com/topology/rest/1.0/
 file/get/2247857866?profile=original
ATTENDEE;ROLE=REQ-PARTICIPANT;PARTSTAT=ACCEPTED;RSVP=TRUE;CN="Ren the 
 Vinyl Archaeologist":https://trueskool.com/profile/xh51jvilojur
END:VEVENT
END:VCALENDAR
