BEGIN:VCALENDAR
PRODID:NingEventWidget-v1
VERSION:2.0
METHOD:PUBLISH
BEGIN:VTIMEZONE
TZID:America/Los_Angeles
X-LIC-LOCATION:America/Los_Angeles
BEGIN:DAYLIGHT
TZOFFSETFROM:-0800
TZOFFSETTO:-0700
TZNAME:PDT
DTSTART:19700308T020000
RRULE:FREQ=YEARLY;BYMONTH=3;BYDAY=2SU
END:DAYLIGHT
BEGIN:STANDARD
TZOFFSETFROM:-0700
TZOFFSETTO:-0800
TZNAME:PST
DTSTART:19701101T020000
RRULE:FREQ=YEARLY;BYMONTH=11;BYDAY=1SU
END:STANDARD
END:VTIMEZONE
BEGIN:VEVENT
UID:1464587:Event:51640
DTSTAMP:20260421T022143Z
SUMMARY:10th Anniversary Cesar E. Chavez Holiday Parade & Festival
DESCRIPTION:California will once again observe the official state holi
 day in memory of the life and work of civil rights and labor leader Ce
 sar E. Chavez. This year marks the 17th anniversary of Cesar's passing
  on April 23rd, 1993.\n\nThe parade is honored this year to have co-fo
 under of the UFW, Dolores Huerta as special guest who will be celebrat
 ing her 80th birthday along with Chicano/Latino Comedy Troupe Culture 
 Clash (celebrating 25 years), as the Parade Grand Marshal.\n\nRoute: A
 ssemble @ 19th St between Dolores & Guererro (11am)\n12 noon Parade be
 gins @ 19th & Guerrero, proceeding to 24th St. Street Fair between Tre
 at and Bryant Sts. Festival 1-6pm.\n\nFestival entertainment (24th & B
 ryant) features headliner Anthony Blea y su Charanga; Singer Songwrite
 r, Blanca Sandoval; R&B/Hip-Hop duo, Margarita & Uce B; Mission Cultur
 al Center's Youth Band's, Los Chiles Verdes and Futuro Picante and Bal
 let Folklorico Youth Group, Cuicacalli\n\n\nClassic Car Show (24th & H
 arrison)\nChildren's Arts & Crafts area (24th & Treat);\nCesar E. Chav
 ez Art Contest winners artwork displayed at the Galeria de la Raza (24
 th & Bryant);\nCommunity Service Information\nArts & Crafts Booths\n24
 th St Vendors\n\nFor more information visit https://trueskool.com/even
 ts/10th-anniversary-cesar-e
DTSTART;TZID=America/Los_Angeles:20100410T120000
DTEND;TZID=America/Los_Angeles:20100410T180000
CATEGORIES:parade, "&", festival
LOCATION:San Francisco
WEBSITE:http://www.cesarchavezday.org
URL:http://www.cesarchavezday.org
CONTACT:415-621-2665
ORGANIZER:Cesar E. Chavez Holiday Parade & Festival Committee
ATTACH;FMTTYPE="image/jpeg":http://storage.ning.com/topology/rest/1.0/
 file/get/2247875602?profile=original
ATTENDEE;ROLE=REQ-PARTICIPANT;PARTSTAT=ACCEPTED;RSVP=TRUE;CN="Juliana 
 Mojica":https://trueskool.com/profile/JulianaMojica
END:VEVENT
END:VCALENDAR
