BEGIN:VCALENDAR
PRODID:NingEventWidget-v1
VERSION:2.0
METHOD:PUBLISH
BEGIN:VTIMEZONE
TZID:America/Los_Angeles
X-LIC-LOCATION:America/Los_Angeles
BEGIN:DAYLIGHT
TZOFFSETFROM:-0800
TZOFFSETTO:-0700
TZNAME:PDT
DTSTART:19700308T020000
RRULE:FREQ=YEARLY;BYMONTH=3;BYDAY=2SU
END:DAYLIGHT
BEGIN:STANDARD
TZOFFSETFROM:-0700
TZOFFSETTO:-0800
TZNAME:PST
DTSTART:19701101T020000
RRULE:FREQ=YEARLY;BYMONTH=11;BYDAY=1SU
END:STANDARD
END:VTIMEZONE
BEGIN:VEVENT
UID:1464587:Event:654621
DTSTAMP:20260420T174028Z
SUMMARY:Zumba Classes
DESCRIPTION:\n\nFor more information visit http://trueskool.com/events
 /zumba-classes
DTSTART;TZID=America/Los_Angeles:20161017T180000
DTEND;TZID=America/Los_Angeles:20161017T190000
CATEGORIES:dance, fitness, leisure, sports, hip, hop, competition, sin
 gles, high, energy, kid-friendly
LOCATION:Berkeley Youth Alternatives
WEBSITE:https://www.scenesquid.com/events/zumba-classes/57fed334889f94
 2a610000dc?referring_publisher=557fcea2808529985700000d
URL:https://www.scenesquid.com/events/zumba-classes/57fed334889f942a61
 0000dc?referring_publisher=557fcea2808529985700000d
CONTACT:510-845-9010 ext 231
ORGANIZER:Berkeley Youth Alternatives
ATTACH;FMTTYPE="image/jpeg":
ATTENDEE;ROLE=REQ-PARTICIPANT;PARTSTAT=ACCEPTED;RSVP=TRUE;CN="SceneSqu
 id SF Bay":http://trueskool.com/profile/SceneSquidSFBay
END:VEVENT
END:VCALENDAR
