BEGIN:VCALENDAR
PRODID:NingEventWidget-v1
VERSION:2.0
METHOD:PUBLISH
BEGIN:VTIMEZONE
TZID:America/Los_Angeles
X-LIC-LOCATION:America/Los_Angeles
BEGIN:DAYLIGHT
TZOFFSETFROM:-0800
TZOFFSETTO:-0700
TZNAME:PDT
DTSTART:19700308T020000
RRULE:FREQ=YEARLY;BYMONTH=3;BYDAY=2SU
END:DAYLIGHT
BEGIN:STANDARD
TZOFFSETFROM:-0700
TZOFFSETTO:-0800
TZNAME:PST
DTSTART:19701101T020000
RRULE:FREQ=YEARLY;BYMONTH=11;BYDAY=1SU
END:STANDARD
END:VTIMEZONE
BEGIN:VEVENT
UID:1464587:Event:401386
DTSTAMP:20260420T214556Z
SUMMARY:Zigaboo Modeliste & The New Aahkesstra
DESCRIPTION: August 21, 2014 Zigaboo Modeliste & The New Aahkesstra\n8
 pm $19\nYoshi's Oakland 510 Embarcadero West Jack London Square Oaklan
 d, CA 94607» BUY TICKETS\n\nFor more information visit http://truesko
 ol.com/events/zigaboo-modeliste-the-new-aahkesstra
DTSTART;TZID=America/Los_Angeles:20140821T200000
DTEND;TZID=America/Los_Angeles:20140821T230000
CATEGORIES:"bay area", oakland
LOCATION:Yoshi's, Oakland
WEBSITE:http://www.ticketfly.com/purchase/event/629423
URL:http://www.ticketfly.com/purchase/event/629423
CONTACT:
ORGANIZER:Yoshi's
ATTACH;FMTTYPE="image/jpeg":http://storage.ning.com/topology/rest/1.0/
 file/get/2247965238?profile=original
ATTENDEE;ROLE=REQ-PARTICIPANT;PARTSTAT=ACCEPTED;RSVP=TRUE;CN="Editor's
  Pick":http://trueskool.com/profile/RentheVinylArchaeologist
END:VEVENT
END:VCALENDAR
