BEGIN:VCALENDAR
PRODID:NingEventWidget-v1
VERSION:2.0
METHOD:PUBLISH
BEGIN:VTIMEZONE
TZID:America/Los_Angeles
X-LIC-LOCATION:America/Los_Angeles
BEGIN:DAYLIGHT
TZOFFSETFROM:-0800
TZOFFSETTO:-0700
TZNAME:PDT
DTSTART:19700308T020000
RRULE:FREQ=YEARLY;BYMONTH=3;BYDAY=2SU
END:DAYLIGHT
BEGIN:STANDARD
TZOFFSETFROM:-0700
TZOFFSETTO:-0800
TZNAME:PST
DTSTART:19701101T020000
RRULE:FREQ=YEARLY;BYMONTH=11;BYDAY=1SU
END:STANDARD
END:VTIMEZONE
BEGIN:VEVENT
UID:1464587:Event:355682
DTSTAMP:20260423T034749Z
SUMMARY:Zapp
DESCRIPTION:This 4th of July week, ZAPP explodes at Yoshi's with the
  funkiest stage show on the planet. Performing all their classic hits,
  ZAPP will entertain you to all end with their incredible stage show a
 nd high energy live performance. Come ready to party, dance and sing a
 long to your favorite Zapp song, all in fun and memory of Roger Troutm
 an; the original Talk Box master.\n\nWednesday, July 2 8pm $29\nThursd
 ay, July 3 8pm $29\nFriday, July 4 8pm & 10pm $33\n\n\n\nFor more info
 rmation visit http://trueskool.com/events/zapp
DTSTART;TZID=America/Los_Angeles:20140702T200000
DTEND;TZID=America/Los_Angeles:20140704T120000
CATEGORIES:"bay area", "san francisco", oakland
LOCATION:Yoshi's, Oakland
WEBSITE:http://yoshis.inticketing.com/evlist.php?events=search&searchs
 tr=Zapp&smonth=0&sday=0&syear=0&vstate=0
URL:http://yoshis.inticketing.com/evlist.php?events=search&searchstr=Z
 app&smonth=0&sday=0&syear=0&vstate=0
CONTACT:
ORGANIZER;CN="Editor's Pick":http://trueskool.com/profile/RentheVinylA
 rchaeologist
ATTACH;FMTTYPE="image/jpeg":http://storage.ning.com/topology/rest/1.0/
 file/get/2247965272?profile=original
ATTENDEE;ROLE=REQ-PARTICIPANT;PARTSTAT=ACCEPTED;RSVP=TRUE;CN="James Mi
 chael Federighi":http://trueskool.com/profile/JamesMichaelFederighi
ATTENDEE;ROLE=REQ-PARTICIPANT;PARTSTAT=ACCEPTED;RSVP=TRUE;CN="Editor's
  Pick":http://trueskool.com/profile/RentheVinylArchaeologist
END:VEVENT
END:VCALENDAR
