BEGIN:VCALENDAR
PRODID:NingEventWidget-v1
VERSION:2.0
METHOD:PUBLISH
BEGIN:VTIMEZONE
TZID:America/Los_Angeles
X-LIC-LOCATION:America/Los_Angeles
BEGIN:DAYLIGHT
TZOFFSETFROM:-0800
TZOFFSETTO:-0700
TZNAME:PDT
DTSTART:19700308T020000
RRULE:FREQ=YEARLY;BYMONTH=3;BYDAY=2SU
END:DAYLIGHT
BEGIN:STANDARD
TZOFFSETFROM:-0700
TZOFFSETTO:-0800
TZNAME:PST
DTSTART:19701101T020000
RRULE:FREQ=YEARLY;BYMONTH=11;BYDAY=1SU
END:STANDARD
END:VTIMEZONE
BEGIN:VEVENT
UID:1464587:Event:630731
DTSTAMP:20260421T170303Z
SUMMARY:Zap Mama / King Sunny Ade & His African Beats ( CANCELLED )
DESCRIPTION:Today we deeply regret to report that, as result of a worl
 dwide computer system breakdown within The Department of State's Burea
 u of Consular Affairs, US Consulates have been unable to issue visas f
 or King Sunny Ade. Due to the uncertainty surrounding this unfortunate
  situation, we are forced to announce the cancellation of King Sunny 
 Ade's tour date with Zap Mama at The Regency Ballroom on July 19th. We
  apologize for the inconvenience surrounding this issue. Tickets will 
 be refunded automatically and post back to your account shortly , tick
 ets purchased in person can be refunded at point of purchase. \n Sun,
  Jul 19, 2015 Zap Mama / King Sunny Ade & His African Beats\nThe Regen
 cy Ballroom SF 8:00PM\n>> BUY TICKETS\n\n\n\n\nFor more information vi
 sit http://trueskool.com/events/zap-mama-king-sunny-ade-his-african-be
 ats
DTSTART;TZID=America/Los_Angeles:20150719T200000
DTEND;TZID=America/Los_Angeles:20150719T230000
CATEGORIES:"bay area", "san francisco"
LOCATION:Regency Ballroom, San Francisco
WEBSITE:http://www.axs.com/events/278943/zap-mama-king-sunny-ade-his-a
 frican-beats-tickets?CID=REG_ZapMama_TrueSkool
URL:http://www.axs.com/events/278943/zap-mama-king-sunny-ade-his-afric
 an-beats-tickets?CID=REG_ZapMama_TrueSkool
CONTACT:
ORGANIZER:Goldenvoice
ATTACH;FMTTYPE="image/jpeg":http://storage.ning.com/topology/rest/1.0/
 file/get/2247976782?profile=original
ATTENDEE;ROLE=REQ-PARTICIPANT;PARTSTAT=ACCEPTED;RSVP=TRUE;CN="Editor's
  Pick":http://trueskool.com/profile/RentheVinylArchaeologist
ATTENDEE;ROLE=REQ-PARTICIPANT;PARTSTAT=ACCEPTED;RSVP=TRUE;CN=Rebecca:h
 ttp://trueskool.com/profile/Rebecca
END:VEVENT
END:VCALENDAR
