BEGIN:VCALENDAR
PRODID:NingEventWidget-v1
VERSION:2.0
METHOD:PUBLISH
BEGIN:VTIMEZONE
TZID:America/Los_Angeles
X-LIC-LOCATION:America/Los_Angeles
BEGIN:DAYLIGHT
TZOFFSETFROM:-0800
TZOFFSETTO:-0700
TZNAME:PDT
DTSTART:19700308T020000
RRULE:FREQ=YEARLY;BYMONTH=3;BYDAY=2SU
END:DAYLIGHT
BEGIN:STANDARD
TZOFFSETFROM:-0700
TZOFFSETTO:-0800
TZNAME:PST
DTSTART:19701101T020000
RRULE:FREQ=YEARLY;BYMONTH=11;BYDAY=1SU
END:STANDARD
END:VTIMEZONE
BEGIN:VEVENT
UID:1464587:Event:433290
DTSTAMP:20260420T183131Z
SUMMARY:Yung Lean & Sad Boys w/ Gravity Boys
DESCRIPTION: TUESDAY, DEC 16\nGoldenvoice Presents\nYung Lean & Sad Bo
 ys\nGravity Boys\n@ The Regency Ballroom, 1300 Van Ness Avenue, SF Age
 s: All Ages\nDoors: 7:00PM. Show: 8:00PM.\nPrice: $20.00. Door Price: 
 $22.00\nOnsale: Tue, Sep 23, 2014\n>> BUY TICKETS\n\nFor more informat
 ion visit http://trueskool.com/events/yung-lean-sad-boys-w-gravity-boy
 s
DTSTART;TZID=America/Los_Angeles:20141216T190000
DTEND;TZID=America/Los_Angeles:20141216T230000
CATEGORIES:"bay area", "san francisco"
LOCATION:Regency Ballroom, San Francisco
WEBSITE:http://www.axs.com/events/254216/yung-lean-sad-boys-tickets
URL:http://www.axs.com/events/254216/yung-lean-sad-boys-tickets
CONTACT:
ORGANIZER:Goldenvoice
ATTACH;FMTTYPE="image/jpeg":http://storage.ning.com/topology/rest/1.0/
 file/get/2247966949?profile=original
ATTENDEE;ROLE=REQ-PARTICIPANT;PARTSTAT=ACCEPTED;RSVP=TRUE;CN="Editor's
  Pick":http://trueskool.com/profile/RentheVinylArchaeologist
END:VEVENT
END:VCALENDAR
