BEGIN:VCALENDAR
PRODID:NingEventWidget-v1
VERSION:2.0
METHOD:PUBLISH
BEGIN:VTIMEZONE
TZID:America/Los_Angeles
X-LIC-LOCATION:America/Los_Angeles
BEGIN:DAYLIGHT
TZOFFSETFROM:-0800
TZOFFSETTO:-0700
TZNAME:PDT
DTSTART:19700308T020000
RRULE:FREQ=YEARLY;BYMONTH=3;BYDAY=2SU
END:DAYLIGHT
BEGIN:STANDARD
TZOFFSETFROM:-0700
TZOFFSETTO:-0800
TZNAME:PST
DTSTART:19701101T020000
RRULE:FREQ=YEARLY;BYMONTH=11;BYDAY=1SU
END:STANDARD
END:VTIMEZONE
BEGIN:VEVENT
UID:1464587:Event:493685
DTSTAMP:20260420T202228Z
SUMMARY:YUNG LEAN AFTERPARTY w/ YUNG GUD, YUNG SHERMAN, WHITE ARMOUR +
  SAD BOYS SECRET GUESTS
DESCRIPTION:https://www.facebook.com/events/888034954563753\n\nYUNG LE
 AN AFTER PARTY W/â–º YUNG GUD // SADBOYS - Stockholmâ–º YUNG SHERMAN /
 / SADBOYSâ–º WHITE ARMOUR // SADBOYS+ SPECIAL SADBOY GUESTS :(limited 
 $15 tier tickets avail (get sum b/c it will sell out)GET TIX NOW! link
  below>>http://www.monarchsf.com/event/739927come catch ya sadboys in 
 this intimate setting. you know what it is... dont sleep on this one. 
 {{teardrop}}http://sadboys2001.com/-----------------------â€” â™  â™£ 
 â™¥ â™¦ â€”----------------------YUNG GUD :(// The abstraction of huma
 n linguistic figures like illuminated ice sculptures of bass turning i
 nto mechanical flora debris of unknown collisions. A presence of human
 ity is somewhere within as mist evaporating into metal vents as articu
 lated in the washed out vocals interplay with sharper digital landscap
 es. Music is a language that provides the listener an idiosyncratic pa
 thway filled with corridors and highways to explore.In an experience t
 hat fuses and makes so many hybrids all the different features exist i
 n a harmonious state. Yung Gud is definitely carving out a futuristic 
 musical language.http://sadboys2001.com/https://twitter.com/yung_gud,Â
  https://soundcloud.com/gud-2https://www.facebook.com/YungGud4Uhttp://
 sadboys2001.tumblr.com/-----------------------â€” â™  â™£ â™¥ â™¦ â€”-
 ---------------------\n\nFor more information visit http://trueskool.c
 om/events/yung-lean-afterparty-w-yung-gud-yung-sherman-white-armour-sa
 d
DTSTART;TZID=America/Los_Angeles:20141216T213000
DTEND;TZID=America/Los_Angeles:20141217T020000
CATEGORIES:san, francisco, bay, area
LOCATION:Monarch, San Francisco
WEBSITE:http://www.monarchsf.com/event/739927
URL:http://www.monarchsf.com/event/739927
CONTACT:
ORGANIZER:SOUNDPIECES
ATTACH;FMTTYPE="image/jpeg":http://storage.ning.com/topology/rest/1.0/
 file/get/2247972444?profile=original
ATTENDEE;ROLE=REQ-PARTICIPANT;PARTSTAT=ACCEPTED;RSVP=TRUE;CN="FOOTWERK
 S!":http://trueskool.com/profile/FOOTWERKS
END:VEVENT
END:VCALENDAR
