BEGIN:VCALENDAR
PRODID:NingEventWidget-v1
VERSION:2.0
METHOD:PUBLISH
BEGIN:VTIMEZONE
TZID:America/Los_Angeles
X-LIC-LOCATION:America/Los_Angeles
BEGIN:DAYLIGHT
TZOFFSETFROM:-0800
TZOFFSETTO:-0700
TZNAME:PDT
DTSTART:19700308T020000
RRULE:FREQ=YEARLY;BYMONTH=3;BYDAY=2SU
END:DAYLIGHT
BEGIN:STANDARD
TZOFFSETFROM:-0700
TZOFFSETTO:-0800
TZNAME:PST
DTSTART:19701101T020000
RRULE:FREQ=YEARLY;BYMONTH=11;BYDAY=1SU
END:STANDARD
END:VTIMEZONE
BEGIN:VEVENT
UID:1464587:Event:534493
DTSTAMP:20260420T214829Z
SUMMARY:Young Thug & Travis Scott w/ Metro Boomin (DJ Set) (WIN TICKET
 S)
DESCRIPTION:ENTER TO WIN A PAIR OF TICKETS. WINNER WILL BE DRAWN RANDO
 MLY AND ANNOUNCED 2 DAYS PRIOR TO EVENT. 2 PAIRS AVAILABLE \n\nSUNDA
 Y MAR 29\nYoung Thug & Travis Scott\nMetro Boomin (DJ Set)\nRodeo Tour
  2015\n\nThe Warfield SF\nAges: All Ages\nDoors Open: 7:00PM\nStarti
 ng from: $29.50\nDoor Price: $30.00\n >> BUY TICKETS\n\nFor more in
 formation visit http://trueskool.com/events/young-thug-travis-scott-w-
 metro-boomin-dj-set
DTSTART;TZID=America/Los_Angeles:20150329T190000
DTEND;TZID=America/Los_Angeles:20150329T230000
CATEGORIES:"bay area", "san francisco"
LOCATION:The Warfield, San Francisco
WEBSITE:http://www.axs.com/events/271191/young-thug-travis-scott-ticke
 ts?skin=warfield
URL:http://www.axs.com/events/271191/young-thug-travis-scott-tickets?s
 kin=warfield
CONTACT:
ORGANIZER:Goldenvoice
ATTACH;FMTTYPE="image/jpeg":http://storage.ning.com/topology/rest/1.0/
 file/get/2247973584?profile=original
ATTENDEE;ROLE=REQ-PARTICIPANT;PARTSTAT=ACCEPTED;RSVP=TRUE;CN="Editor's
  Pick":http://trueskool.com/profile/RentheVinylArchaeologist
END:VEVENT
END:VCALENDAR
