BEGIN:VCALENDAR
PRODID:NingEventWidget-v1
VERSION:2.0
METHOD:PUBLISH
BEGIN:VTIMEZONE
TZID:America/Los_Angeles
X-LIC-LOCATION:America/Los_Angeles
BEGIN:DAYLIGHT
TZOFFSETFROM:-0800
TZOFFSETTO:-0700
TZNAME:PDT
DTSTART:19700308T020000
RRULE:FREQ=YEARLY;BYMONTH=3;BYDAY=2SU
END:DAYLIGHT
BEGIN:STANDARD
TZOFFSETFROM:-0700
TZOFFSETTO:-0800
TZNAME:PST
DTSTART:19701101T020000
RRULE:FREQ=YEARLY;BYMONTH=11;BYDAY=1SU
END:STANDARD
END:VTIMEZONE
BEGIN:VEVENT
UID:1464587:Event:651720
DTSTAMP:20260420T214518Z
SUMMARY:Yoni & Geti, Go Dark, Niteppl (WIN TICKETS)
DESCRIPTION:ENTER TO WIN A PAIR OF TICKETS. WINNER WILL BE DRAWN RANDO
 MLY AND ANNOUNCED 2 DAYS PRIOR TO EVENT.   \n\nSATURDAY, JULY 23  Y
 oni & Geti Go Dark Niteppl  @ Great American Music Hall, San Francisco
  doors 8pm/show 9pm Tickets are $16 advance/$19 door >> BUY TICKETS\n\
 n\nFor more information visit http://trueskool.com/events/yoni-geti-go
 -dark-niteppl
DTSTART;TZID=America/Los_Angeles:20160723T200000
DTEND;TZID=America/Los_Angeles:20160723T230000
CATEGORIES:"bay area", "san francisco"
LOCATION:Great American Music Hall, San Francisco
WEBSITE:http://www.slimspresents.com/event/yoni-and-geti-gamh/
URL:http://www.slimspresents.com/event/yoni-and-geti-gamh/
CONTACT:
ORGANIZER:Slim's
ATTACH;FMTTYPE="image/jpeg":http://storage.ning.com/topology/rest/1.0/
 file/get/2247989777?profile=original
ATTENDEE;ROLE=REQ-PARTICIPANT;PARTSTAT=ACCEPTED;RSVP=TRUE;CN="Donte Ha
 rrison":http://trueskool.com/profile/DonteHarrison
ATTENDEE;ROLE=REQ-PARTICIPANT;PARTSTAT=ACCEPTED;RSVP=TRUE;CN="Editor's
  Pick":http://trueskool.com/profile/RentheVinylArchaeologist
END:VEVENT
END:VCALENDAR
