BEGIN:VCALENDAR
PRODID:NingEventWidget-v1
VERSION:2.0
METHOD:PUBLISH
BEGIN:VTIMEZONE
TZID:America/Los_Angeles
X-LIC-LOCATION:America/Los_Angeles
BEGIN:DAYLIGHT
TZOFFSETFROM:-0800
TZOFFSETTO:-0700
TZNAME:PDT
DTSTART:19700308T020000
RRULE:FREQ=YEARLY;BYMONTH=3;BYDAY=2SU
END:DAYLIGHT
BEGIN:STANDARD
TZOFFSETFROM:-0700
TZOFFSETTO:-0800
TZNAME:PST
DTSTART:19701101T020000
RRULE:FREQ=YEARLY;BYMONTH=11;BYDAY=1SU
END:STANDARD
END:VTIMEZONE
BEGIN:VEVENT
UID:1464587:Event:627673
DTSTAMP:20260421T023845Z
SUMMARY:Yasiin Bey
DESCRIPTION:\nThursday April 23rd\nAnkh Marketing & 1015 Folsom presen
 t\nYASIIN BEY fka MOS DEF\n\nopening sets by JAHI AS PE 2.0 // ANTIQUE
  // SOUL FROM THE O + DJs MR. E // LEYDIS // MACKSWELL\n\n1015 Folsom\
 n1015 Folsom St, San Francisco, California 94103\n 9pm - 2am / 21+\nT
 ickets Here: https://yasiinbey-fbe.eventbrite.com/\n\nFor more inform
 ation visit http://trueskool.com/events/yasiin-bey
DTSTART;TZID=America/Los_Angeles:20150423T210000
DTEND;TZID=America/Los_Angeles:20150424T020000
CATEGORIES:"bay area", "san francisco"
LOCATION:1015, San Francisco
WEBSITE:https://yasiinbey-fbe.eventbrite.com/
URL:https://yasiinbey-fbe.eventbrite.com/
CONTACT:
ORGANIZER:Ankh Marketing
ATTACH;FMTTYPE="image/jpeg":http://storage.ning.com/topology/rest/1.0/
 file/get/2059277941?profile=original
ATTENDEE;ROLE=REQ-PARTICIPANT;PARTSTAT=ACCEPTED;RSVP=TRUE;CN="Editor's
  Pick":http://trueskool.com/profile/RentheVinylArchaeologist
END:VEVENT
END:VCALENDAR
