BEGIN:VCALENDAR
PRODID:NingEventWidget-v1
VERSION:2.0
METHOD:PUBLISH
BEGIN:VTIMEZONE
TZID:America/Los_Angeles
X-LIC-LOCATION:America/Los_Angeles
BEGIN:DAYLIGHT
TZOFFSETFROM:-0800
TZOFFSETTO:-0700
TZNAME:PDT
DTSTART:19700308T020000
RRULE:FREQ=YEARLY;BYMONTH=3;BYDAY=2SU
END:DAYLIGHT
BEGIN:STANDARD
TZOFFSETFROM:-0700
TZOFFSETTO:-0800
TZNAME:PST
DTSTART:19701101T020000
RRULE:FREQ=YEARLY;BYMONTH=11;BYDAY=1SU
END:STANDARD
END:VTIMEZONE
BEGIN:VEVENT
UID:1464587:Event:653752
DTSTAMP:20260420T165917Z
SUMMARY:Xenia Rubinos
DESCRIPTION: Sat, September 17, 2016 Xenia Rubinos Kadhja Bonet, Ren t
 he Vinyl Archaeologist\n@ The Independent, San Francisco Doors: 8:30 p
 m / Show: 9:00 pm $13 ADV - $15 DOOR >> BUY TICKETS\n\n\nFor more info
 rmation visit http://trueskool.com/events/xenia-rubinos
DTSTART;TZID=America/Los_Angeles:20160917T203000
DTEND;TZID=America/Los_Angeles:20160917T230000
CATEGORIES:"bay area", "san francisco"
LOCATION:The Independent, San Francisco
WEBSITE:http://www.theindependentsf.com/event/1249065-xenia-rubinos-sa
 n-francisco/
URL:http://www.theindependentsf.com/event/1249065-xenia-rubinos-san-fr
 ancisco/
CONTACT:
ORGANIZER:Another Planet Entertainment
ATTACH;FMTTYPE="image/jpeg":http://storage.ning.com/topology/rest/1.0/
 file/get/2247991021?profile=original
ATTENDEE;ROLE=REQ-PARTICIPANT;PARTSTAT=ACCEPTED;RSVP=TRUE;CN="Editor's
  Pick":http://trueskool.com/profile/RentheVinylArchaeologist
END:VEVENT
END:VCALENDAR
