BEGIN:VCALENDAR
PRODID:NingEventWidget-v1
VERSION:2.0
METHOD:PUBLISH
BEGIN:VTIMEZONE
TZID:America/Los_Angeles
X-LIC-LOCATION:America/Los_Angeles
BEGIN:DAYLIGHT
TZOFFSETFROM:-0800
TZOFFSETTO:-0700
TZNAME:PDT
DTSTART:19700308T020000
RRULE:FREQ=YEARLY;BYMONTH=3;BYDAY=2SU
END:DAYLIGHT
BEGIN:STANDARD
TZOFFSETFROM:-0700
TZOFFSETTO:-0800
TZNAME:PST
DTSTART:19701101T020000
RRULE:FREQ=YEARLY;BYMONTH=11;BYDAY=1SU
END:STANDARD
END:VTIMEZONE
BEGIN:VEVENT
UID:1464587:Event:335022
DTSTAMP:20260421T123714Z
SUMMARY:Writers With Drinks with April Sinclair, Eileen Gunn and Nona 
 Caspers!
DESCRIPTION:Because the word party never stops.  When: Saturday, April
  12, from 7:30 PM to 9:30 PM, doors open 6:30 PM Who: Eileen Gunn, Apr
 il Sinclair, Caitlin Donohue, Nona Caspers and Siouxsie Q! How much: $
 5 to $10, all proceeds benefit the CSC Where: The Make Out Room, 3225 
 22nd. St., San Francisco  About the readers/performers:  Eileen Gunn's
  latest book is Questionable Practices, a story collection. She also p
 ublished another collection, Stable Strategies and Others. Her fiction
  has appeared at Tor.com, Flurb.net, Eclipse One, Wired, Asimov's Maga
 zine and elsewhere. She published the Infinite Matrix science fiction 
 webzine. Her story \"Coming to Terms\" won a Nebula Award in 2004.  Ap
 ril Sinclair is the author of three novels, the critically acclaimed b
 estseller, Coffee Will Make You Black, Ain’t Gonna Be The Same Fool 
 Twice, and I Left My Back Door Open. The American Library Association 
 named Coffee Will Make You Black 1994 Book of the Year (Young Adult Fi
 ction Category.) April also received the Carl Sandburg Award in Litera
 ture from The Friends of the Chicago Public Library for Coffee Will Ma
 ke You Black.  Nona Caspers' books include Little Book of Days and Hea
 vier Than Air, which won the Grace Paley Prize in Short Fiction and wa
 s a New York Times Editors' Choice. She teaches creative writing at Sa
 n Francisco State University.  Caitlin Donohue is a staff writer at Ro
 okie Magazine and editor of AHDM4U.com. She was formerly the culture e
 ditor of the SF Bay Guardian.  Siouxsie Q is the creator and host of t
 he acclaimed podcast The WhoreCast. She has appeared as a guest expert
  on the Savage Love column, and Ira Glass thinks she's \"charming\". S
 he is an adult performer for sites such as Kink.com, Filly FIlms, Quee
 r Porn TV, and The Crash Pad Series. She is a part of the Cum and Glit
 ter collective, a live sex show that merges live music, theatre, and p
 erformative sex. She recently took her podcast to a live audience with
  \"The WhoreCast LIVE!\" which launched the San Francisco Sex Worker F
 ilm and Arts Festival.  About Writers With Drinks:  Writers With Drink
 s has won numerous \"Best ofs\" from local newspapers, and has been me
 ntioned in 7x7, Spin Magazine and one of Armistead Maupin's Tales of t
 he City novels. The spoken word \"variety show\" mixes genres to raise
  money for local causes. The award-winning show includes poetry, stand
 -up comedy, science fiction, fantasy, romance, mystery, literary ficti
 on, erotica, memoir, zines and blogs in a freewheeling format.\n\nFor 
 more information visit http://trueskool.com/events/writers-with-drinks
 -with-april-sinclair-eileen-gunn-and-nona
DTSTART;TZID=America/Los_Angeles:20140412T193000
DTEND;TZID=America/Los_Angeles:20140412T213000
CATEGORIES:san, francisco, bay, area, sf, california
LOCATION:The Make Out Room, San Francisco
WEBSITE:http://www.writerswithdrinks.com
URL:http://www.writerswithdrinks.com
CONTACT:415-647-2888
ORGANIZER;CN="Charlie Jane Anders":http://trueskool.com/profile/Charli
 eJaneAnders
ATTACH;FMTTYPE="image/jpeg":
ATTENDEE;ROLE=REQ-PARTICIPANT;PARTSTAT=ACCEPTED;RSVP=TRUE;CN="Charlie 
 Jane Anders":http://trueskool.com/profile/CharlieJaneAnders
END:VEVENT
END:VCALENDAR
