BEGIN:VCALENDAR
PRODID:NingEventWidget-v1
VERSION:2.0
METHOD:PUBLISH
BEGIN:VTIMEZONE
TZID:America/Los_Angeles
X-LIC-LOCATION:America/Los_Angeles
BEGIN:DAYLIGHT
TZOFFSETFROM:-0800
TZOFFSETTO:-0700
TZNAME:PDT
DTSTART:19700308T020000
RRULE:FREQ=YEARLY;BYMONTH=3;BYDAY=2SU
END:DAYLIGHT
BEGIN:STANDARD
TZOFFSETFROM:-0700
TZOFFSETTO:-0800
TZNAME:PST
DTSTART:19701101T020000
RRULE:FREQ=YEARLY;BYMONTH=11;BYDAY=1SU
END:STANDARD
END:VTIMEZONE
BEGIN:VEVENT
UID:1464587:Event:674970
DTSTAMP:20260421T101625Z
SUMMARY:Writers With Drinks featuring Vernon Keeve III and Molly Sanch
 ez
DESCRIPTION:Chandler Klang Smith, author of one of this year's hottest
  literary debuts (The Sky is Yours) comes to Writers With Drinks, San 
 Francisco's longest-running spoken word show. She's joined by erotica 
 legend Joanna Angel, who's written a choose-your-own-adventure book. A
 lso featuring science writer Adam Becker (What Is Real?), poet Vernon 
 Keeve III (Southern Migrant Mixtape), comedian Molly Sanchez (Killing 
 My Lobster) and tech journalist Nitasha Tiku (Wired Magazine).\n\nFor 
 more information visit http://trueskool.com/events/writers-with-drinks
 -featuring-vernon-keeve-iii-and-molly-sanchez
DTSTART;TZID=America/Los_Angeles:20180609T193000
DTEND;TZID=America/Los_Angeles:20180609T213000
CATEGORIES:"san francisco", "bay area", sf, california
LOCATION:The Make Out Room, San Francisco
WEBSITE:http://makeoutroom.com
URL:http://makeoutroom.com
CONTACT:415-647-2888
ORGANIZER;CN="Charlie Jane Anders":http://trueskool.com/profile/Charli
 eJaneAnders
ATTACH;FMTTYPE="image/jpeg":http://storage.ning.com/topology/rest/1.0/
 file/get/2248007449?profile=original
ATTENDEE;ROLE=REQ-PARTICIPANT;PARTSTAT=ACCEPTED;RSVP=TRUE;CN="Charlie 
 Jane Anders":http://trueskool.com/profile/CharlieJaneAnders
END:VEVENT
END:VCALENDAR
