BEGIN:VCALENDAR
PRODID:NingEventWidget-v1
VERSION:2.0
METHOD:PUBLISH
BEGIN:VTIMEZONE
TZID:America/Los_Angeles
X-LIC-LOCATION:America/Los_Angeles
BEGIN:DAYLIGHT
TZOFFSETFROM:-0800
TZOFFSETTO:-0700
TZNAME:PDT
DTSTART:19700308T020000
RRULE:FREQ=YEARLY;BYMONTH=3;BYDAY=2SU
END:DAYLIGHT
BEGIN:STANDARD
TZOFFSETFROM:-0700
TZOFFSETTO:-0800
TZNAME:PST
DTSTART:19701101T020000
RRULE:FREQ=YEARLY;BYMONTH=11;BYDAY=1SU
END:STANDARD
END:VTIMEZONE
BEGIN:VEVENT
UID:1464587:Event:676191
DTSTAMP:20260420T214444Z
SUMMARY:Writers With Drinks featuring Adam Smyer
DESCRIPTION:Rebecca Watson, the founder of the Skepchick Network and t
 he creator of the Quiz-o-Tron comedy show, reads from her writing abou
 t skepticism and science. Plus Adam Smyer, author of the acclaimed nov
 el Knucklehead. And fantasy author Tina LeCount Myers (The Song of All
 ) and journalist Beth Winegarner (Tenacity: Heavy Metal in the Middle 
 East and Africa). Hosted by Carol Queen.\n\nFor more information visit
  http://trueskool.com/events/writers-with-drinks-featuring-adam-smyer
DTSTART;TZID=America/Los_Angeles:20180714T193000
DTEND;TZID=America/Los_Angeles:20180714T213000
CATEGORIES:"san francisco", "bay area", sf, california
LOCATION:The Make Out Room, San Francisco
WEBSITE:http://makeoutroom.com
URL:http://makeoutroom.com
CONTACT:415-647-2888
ORGANIZER;CN="Charlie Jane Anders":http://trueskool.com/profile/Charli
 eJaneAnders
ATTACH;FMTTYPE="image/jpeg":http://storage.ning.com/topology/rest/1.0/
 file/get/2248007308?profile=original
ATTENDEE;ROLE=REQ-PARTICIPANT;PARTSTAT=ACCEPTED;RSVP=TRUE;CN="Charlie 
 Jane Anders":http://trueskool.com/profile/CharlieJaneAnders
END:VEVENT
END:VCALENDAR
