BEGIN:VCALENDAR
PRODID:NingEventWidget-v1
VERSION:2.0
METHOD:PUBLISH
BEGIN:VTIMEZONE
TZID:America/Los_Angeles
X-LIC-LOCATION:America/Los_Angeles
BEGIN:DAYLIGHT
TZOFFSETFROM:-0800
TZOFFSETTO:-0700
TZNAME:PDT
DTSTART:19700308T020000
RRULE:FREQ=YEARLY;BYMONTH=3;BYDAY=2SU
END:DAYLIGHT
BEGIN:STANDARD
TZOFFSETFROM:-0700
TZOFFSETTO:-0800
TZNAME:PST
DTSTART:19701101T020000
RRULE:FREQ=YEARLY;BYMONTH=11;BYDAY=1SU
END:STANDARD
END:VTIMEZONE
BEGIN:VEVENT
UID:1464587:Event:514667
DTSTAMP:20260420T214218Z
SUMMARY:Wrecking
DESCRIPTION:Wrecking: witness the re-imagining of dance!\nSaturday and
  Sunday March 7th and 8th, 2015\n12-4 PM at the Joe Goode Annex, 401 A
 labama Street, SF\nWrecking is choreographer Susan Rethorst's model fo
 r examining authorship,decision-making, and editing in dance. Two chor
 eographers will present original works and two-three other choreograph
 ers will wreck or re-arrange the works. The entire process is open to 
 the audience to witness.Â Wreckings take place between 12-3 PM. Come w
 atch the process or come at 3 PM to watch the original work and wrecke
 d versions of it.\nSaturday March 7th features original work by Christ
 y Funsch, wrecked by Rowena Richie, Megan Nicely, and Keith Hennessy.Â
  Sunday features original work by Mary Armentrout wrecked by Erin Mei-
 Ling Stuart and Julie Mayo (Brooklyn).Tickets: $10 available atÂ http:
 //www.brownpapertickets.com/event/1158698\nfor more information, callÂ
  415.902.5371, or visitÂ www.funschdance.org\n\nFor more information v
 isit http://trueskool.com/events/wrecking
DTSTART;TZID=America/Los_Angeles:20150307T120000
DTEND;TZID=America/Los_Angeles:20150308T160000
CATEGORIES:"san francisco", "bay area", "potrero hill", "joe goode ann
 ex"
LOCATION:Joe Goode Annex, San Francisco
WEBSITE:http://www.brownpapertickets.com/event/1158698
URL:http://www.brownpapertickets.com/event/1158698
CONTACT:4159025371
ORGANIZER:Funsch Dance
ATTACH;FMTTYPE="image/jpeg":http://storage.ning.com/topology/rest/1.0/
 file/get/2247973350?profile=original
ATTENDEE;ROLE=REQ-PARTICIPANT;PARTSTAT=ACCEPTED;RSVP=TRUE;CN="Christy 
 Funsch":http://trueskool.com/profile/ChristyFunsch
END:VEVENT
END:VCALENDAR
