BEGIN:VCALENDAR
PRODID:NingEventWidget-v1
VERSION:2.0
METHOD:PUBLISH
BEGIN:VTIMEZONE
TZID:America/Los_Angeles
X-LIC-LOCATION:America/Los_Angeles
BEGIN:DAYLIGHT
TZOFFSETFROM:-0800
TZOFFSETTO:-0700
TZNAME:PDT
DTSTART:19700308T020000
RRULE:FREQ=YEARLY;BYMONTH=3;BYDAY=2SU
END:DAYLIGHT
BEGIN:STANDARD
TZOFFSETFROM:-0700
TZOFFSETTO:-0800
TZNAME:PST
DTSTART:19701101T020000
RRULE:FREQ=YEARLY;BYMONTH=11;BYDAY=1SU
END:STANDARD
END:VTIMEZONE
BEGIN:VEVENT
UID:1464587:Event:152540
DTSTAMP:20260420T092451Z
SUMMARY:Wednesday Night Chill @ C&J's Sports Bar
DESCRIPTION:We Lounging, bring your dance moves and enjoy the party vi
 be or just kick back and chill, DJ Johnny Afro is dropping the bangers
 ..  Club Hits & Classics surronded by todays favorite jams.\nThe Bay 
 brings out a nice flavorful variety of guys and girls young and old. 
  Enjoy your time off work and Join DJ Johnny Afro Every Wednesday the 
 hip hop & r&b specialist.   9pm-2AM\nFree No Cover!!!\n  dresscode c
 asual, neat and clean\n\n\n\nFor more information visit http://truesko
 ol.com/events/work-break-wednesdays-menconi-s-lounge-union-city
DTSTART;TZID=America/Los_Angeles:20160816T090000
DTEND;TZID=America/Los_Angeles:20160816T114500
CATEGORIES:santa, clara, ca
LOCATION:C&J's Sports Bar, Santa Clara
WEBSITE:https://goo.gl/maps/V3tFCAUoSLM2
URL:https://goo.gl/maps/V3tFCAUoSLM2
CONTACT:650-329-9074
ORGANIZER;CN="Bass Way Records":http://trueskool.com/profile/BassWayRe
 cords
ATTACH;FMTTYPE="image/jpeg":http://storage.ning.com/topology/rest/1.0/
 file/get/2247990478?profile=original
ATTENDEE;ROLE=REQ-PARTICIPANT;PARTSTAT=ACCEPTED;RSVP=TRUE;CN="Bass Way
  Records":http://trueskool.com/profile/BassWayRecords
END:VEVENT
END:VCALENDAR
