BEGIN:VCALENDAR
PRODID:NingEventWidget-v1
VERSION:2.0
METHOD:PUBLISH
BEGIN:VTIMEZONE
TZID:America/Los_Angeles
X-LIC-LOCATION:America/Los_Angeles
BEGIN:DAYLIGHT
TZOFFSETFROM:-0800
TZOFFSETTO:-0700
TZNAME:PDT
DTSTART:19700308T020000
RRULE:FREQ=YEARLY;BYMONTH=3;BYDAY=2SU
END:DAYLIGHT
BEGIN:STANDARD
TZOFFSETFROM:-0700
TZOFFSETTO:-0800
TZNAME:PST
DTSTART:19701101T020000
RRULE:FREQ=YEARLY;BYMONTH=11;BYDAY=1SU
END:STANDARD
END:VTIMEZONE
BEGIN:VEVENT
UID:1464587:Event:701582
DTSTAMP:20260424T081148Z
SUMMARY:Who Sampled? Hip Hop Trivia Game (Every Sunday)
DESCRIPTION:\r\nRen the Vinyl Archaeologist and DJ Platurn host a Hip 
 Hop Trivia Game where participants guess who sampled the select songs 
 and the name of the song it was sampled in. To participate, create a T
 witch account at twitch.tv and follow twitch.tv/trueskool and submit y
 our answers in the chat! \r\nTune in on Sunday at 12pm PST. \r\nWATCH 
 HERE http://www.trueskooltv.com/whosampledRSVP \"Going\" to get a remi
 nder or \r\nAdd to your Google CalendarPresented by True Skool in asso
 ciation with Hello Stranger Bar\n\nFor more information visit http://t
 rueskool.com/events/who-sampled-hip-hop-trivia-game-every-sunday
DTSTART;TZID=America/Los_Angeles:20200927T120000
DTEND;TZID=America/Los_Angeles:20200927T130000
CATEGORIES:livestream
LOCATION:World Wide Web
WEBSITE:http://trueskooltv.com/whosampled
URL:http://trueskooltv.com/whosampled
CONTACT:
ORGANIZER;CN="Editor's Pick":http://trueskool.com/profile/RentheVinylA
 rchaeologist
ATTACH;FMTTYPE="image/jpeg":https://storage.ning.com/topology/rest/1.0
 /file/get/7963098291?profile=original
ATTENDEE;ROLE=REQ-PARTICIPANT;PARTSTAT=ACCEPTED;RSVP=TRUE;CN="Editor's
  Pick":http://trueskool.com/profile/RentheVinylArchaeologist
END:VEVENT
END:VCALENDAR
