BEGIN:VCALENDAR
PRODID:NingEventWidget-v1
VERSION:2.0
METHOD:PUBLISH
BEGIN:VTIMEZONE
TZID:America/Los_Angeles
X-LIC-LOCATION:America/Los_Angeles
BEGIN:DAYLIGHT
TZOFFSETFROM:-0800
TZOFFSETTO:-0700
TZNAME:PDT
DTSTART:19700308T020000
RRULE:FREQ=YEARLY;BYMONTH=3;BYDAY=2SU
END:DAYLIGHT
BEGIN:STANDARD
TZOFFSETFROM:-0700
TZOFFSETTO:-0800
TZNAME:PST
DTSTART:19701101T020000
RRULE:FREQ=YEARLY;BYMONTH=11;BYDAY=1SU
END:STANDARD
END:VTIMEZONE
BEGIN:VEVENT
UID:1464587:Event:136771
DTSTAMP:20260420T152644Z
SUMMARY:What The Funk?! w/ DJ Spinna & Rich Medina
DESCRIPTION:Friday November 9th | 10PM  MIGHTY is proud to present the
  West Coast DEBUT of....  WHAT THE FUNK?! JAMES BROWN vs. FELA  with D
 J SPINNA & RICH MEDINA  Side gallery hosted by Afrolicious DJs  Pleasu
 remaker & Señor Oz (ESL Music)  hosted by Fran Boogie.   Spinning Fun
 ky JAMES BROWN Exclusives, Covers, JB Samples & Funky-Soulful Hits Of 
 JBs` God Children & The Afro Funk Pioneer FELA ANIKULAPO KUTI`s Entire
  Music Catalog, Afro House, Afro Soul and more!  Tribute To The God Fa
 ther Of Soul JAMES BROWN & To The Afro Beat Pioneer FELA ANIKULAPO KUT
 I!!!  Advance ticket available at mightysf.eventbrite.com  21+\n\nFor 
 more information visit http://trueskool.com/events/what-the-funk-w-dj-
 spinna-rich-medina
DTSTART;TZID=America/Los_Angeles:20121109T220000
DTEND;TZID=America/Los_Angeles:20121110T020000
CATEGORIES:san, francisco, ca
LOCATION:MIGHTY, San Francisco
WEBSITE:http://mightysf.eventbrite.com
URL:http://mightysf.eventbrite.com
CONTACT:
ORGANIZER;CN="Carey Kopp":http://trueskool.com/profile/k85
ATTACH;FMTTYPE="image/jpeg":http://storage.ning.com/topology/rest/1.0/
 file/get/2247930897?profile=original
ATTENDEE;ROLE=REQ-PARTICIPANT;PARTSTAT=ACCEPTED;RSVP=TRUE;CN="Carey Ko
 pp":http://trueskool.com/profile/k85
END:VEVENT
END:VCALENDAR
