BEGIN:VCALENDAR
PRODID:NingEventWidget-v1
VERSION:2.0
METHOD:PUBLISH
BEGIN:VTIMEZONE
TZID:America/Los_Angeles
X-LIC-LOCATION:America/Los_Angeles
BEGIN:DAYLIGHT
TZOFFSETFROM:-0800
TZOFFSETTO:-0700
TZNAME:PDT
DTSTART:19700308T020000
RRULE:FREQ=YEARLY;BYMONTH=3;BYDAY=2SU
END:DAYLIGHT
BEGIN:STANDARD
TZOFFSETFROM:-0700
TZOFFSETTO:-0800
TZNAME:PST
DTSTART:19701101T020000
RRULE:FREQ=YEARLY;BYMONTH=11;BYDAY=1SU
END:STANDARD
END:VTIMEZONE
BEGIN:VEVENT
UID:1464587:Event:400073
DTSTAMP:20260420T172549Z
SUMMARY:What The Funk?! James Brown vs. Fela Kuti
DESCRIPTION:Saturday - August 23rdMighty presents \"What The Funk?! Ja
 mes Brown vs. Fela Kuti\" Funky JAMES BROWN Exclusives, Covers, JB Sam
 ples & Funky-Soulful Hits Of JBs` God Children & The Afro Funk Pioneer
  FELA ANIKULAPO KUTI`s Entire Music Catalog, Afro House, Afro Soul and
  more!\nFeaturing:J Rocc & Rich Medina\n@ Mighty, 119 Utah St., San Fr
 anciscoAdvance ticket available at http://www.mightysf.eventbrite.comA
 ll events at Mighty are 21+\n\nFor more information visit http://trues
 kool.com/events/what-the-funk-james-brown-vs-fela-kuti
DTSTART;TZID=America/Los_Angeles:20140823T210000
DTEND;TZID=America/Los_Angeles:20140824T030000
CATEGORIES:"bay area", "san francisco"
LOCATION:Mighty, San Francisco
WEBSITE:http://www.mightysf.eventbrite.com
URL:http://www.mightysf.eventbrite.com
CONTACT:
ORGANIZER:Mighty
ATTACH;FMTTYPE="image/jpeg":http://storage.ning.com/topology/rest/1.0/
 file/get/2247965925?profile=original
ATTENDEE;ROLE=REQ-PARTICIPANT;PARTSTAT=ACCEPTED;RSVP=TRUE;CN="Martin F
 arfan":http://trueskool.com/profile/MartinFarfan
ATTENDEE;ROLE=REQ-PARTICIPANT;PARTSTAT=ACCEPTED;RSVP=TRUE;CN="Editor's
  Pick":http://trueskool.com/profile/RentheVinylArchaeologist
END:VEVENT
END:VCALENDAR
