BEGIN:VCALENDAR
PRODID:NingEventWidget-v1
VERSION:2.0
METHOD:PUBLISH
BEGIN:VTIMEZONE
TZID:America/Los_Angeles
X-LIC-LOCATION:America/Los_Angeles
BEGIN:DAYLIGHT
TZOFFSETFROM:-0800
TZOFFSETTO:-0700
TZNAME:PDT
DTSTART:19700308T020000
RRULE:FREQ=YEARLY;BYMONTH=3;BYDAY=2SU
END:DAYLIGHT
BEGIN:STANDARD
TZOFFSETFROM:-0700
TZOFFSETTO:-0800
TZNAME:PST
DTSTART:19701101T020000
RRULE:FREQ=YEARLY;BYMONTH=11;BYDAY=1SU
END:STANDARD
END:VTIMEZONE
BEGIN:VEVENT
UID:1464587:Event:336115
DTSTAMP:20260421T052347Z
SUMMARY:We Out Here Wednesdays!
DESCRIPTION:Wednesdays will never be the same. We're those dudes that 
 are going ruin your Thursday mornings......and you will love us for it
 !  Banging beats+amazing guest Dj's+ no cover= Good times!   This wee
 k we're bringing out the gawds Max Kane and Roman Nunez.   We out her
 e!   2nd/4th Wednesdays Double Dutch 10-2AM Free yall No Buuushieeet\
 n\nFor more information visit http://trueskool.com/events/we-out-here-
 wednesdays
DTSTART;TZID=America/Los_Angeles:20140409T220000
DTEND;TZID=America/Los_Angeles:20140410T020000
CATEGORIES:double, dutch
LOCATION:double dutch, SF
WEBSITE:
URL:
CONTACT:
ORGANIZER;CN="Dj Mr. Murdock":http://trueskool.com/profile/DjMrMurdock
ATTACH;FMTTYPE="image/jpeg":http://storage.ning.com/topology/rest/1.0/
 file/get/2247959998?profile=original
ATTENDEE;ROLE=REQ-PARTICIPANT;PARTSTAT=ACCEPTED;RSVP=TRUE;CN="Dj Mr. M
 urdock":http://trueskool.com/profile/DjMrMurdock
END:VEVENT
END:VCALENDAR
