BEGIN:VCALENDAR
PRODID:NingEventWidget-v1
VERSION:2.0
METHOD:PUBLISH
BEGIN:VTIMEZONE
TZID:America/Los_Angeles
X-LIC-LOCATION:America/Los_Angeles
BEGIN:DAYLIGHT
TZOFFSETFROM:-0800
TZOFFSETTO:-0700
TZNAME:PDT
DTSTART:19700308T020000
RRULE:FREQ=YEARLY;BYMONTH=3;BYDAY=2SU
END:DAYLIGHT
BEGIN:STANDARD
TZOFFSETFROM:-0700
TZOFFSETTO:-0800
TZNAME:PST
DTSTART:19701101T020000
RRULE:FREQ=YEARLY;BYMONTH=11;BYDAY=1SU
END:STANDARD
END:VTIMEZONE
BEGIN:VEVENT
UID:1464587:Event:385458
DTSTAMP:20260423T040352Z
SUMMARY:We Out Here Wednesdays!
DESCRIPTION:We Out Here!!! With the dopest Hip Hop, Reggae and Remixes
  in the City.Resident Dj Mr. Murdock will be in the building manning t
 he space station. If ya'll went to the last one you know how we do, th
 e ish went bananas! 10-2AMFree yo! 3192 16th St SF2/4th Wednesdays 
 Yeeeeeeee\n\nFor more information visit http://trueskool.com/events/we
 -out-here-wednesdays-4
DTSTART;TZID=America/Los_Angeles:20140709T220000
DTEND;TZID=America/Los_Angeles:20140710T020000
CATEGORIES:double, dutch
LOCATION:SAN FRANCISCO
WEBSITE:
URL:
CONTACT:
ORGANIZER;CN="Dj Mr. Murdock":http://trueskool.com/profile/DjMrMurdock
ATTACH;FMTTYPE="image/jpeg":
ATTENDEE;ROLE=REQ-PARTICIPANT;PARTSTAT=ACCEPTED;RSVP=TRUE;CN="Dj Mr. M
 urdock":http://trueskool.com/profile/DjMrMurdock
END:VEVENT
END:VCALENDAR
