BEGIN:VCALENDAR
PRODID:NingEventWidget-v1
VERSION:2.0
METHOD:PUBLISH
BEGIN:VTIMEZONE
TZID:America/Los_Angeles
X-LIC-LOCATION:America/Los_Angeles
BEGIN:DAYLIGHT
TZOFFSETFROM:-0800
TZOFFSETTO:-0700
TZNAME:PDT
DTSTART:19700308T020000
RRULE:FREQ=YEARLY;BYMONTH=3;BYDAY=2SU
END:DAYLIGHT
BEGIN:STANDARD
TZOFFSETFROM:-0700
TZOFFSETTO:-0800
TZNAME:PST
DTSTART:19701101T020000
RRULE:FREQ=YEARLY;BYMONTH=11;BYDAY=1SU
END:STANDARD
END:VTIMEZONE
BEGIN:VEVENT
UID:1464587:Event:346889
DTSTAMP:20260421T070149Z
SUMMARY:We Out Here Wednesdays!
DESCRIPTION:Back at it this Wednesday night at Double Dutch playing 
 all that is dope.....Hip Hop, throwbacks, rap,trap,slaps and boom baps
  to get that noggin noddin. Resident Dj Mr. Murdock will be back in e
 ffect. Always free, always fun, you know what it is! 10-2AM2nd/4th W
 ednesdaysfree yo!\n\nFor more information visit http://trueskool.com/e
 vents/we-out-here-wednesdays-1
DTSTART;TZID=America/Los_Angeles:20140423T220000
DTEND;TZID=America/Los_Angeles:20140424T020000
CATEGORIES:sf
LOCATION:double dutch, SF
WEBSITE:
URL:
CONTACT:
ORGANIZER;CN="Dj Mr. Murdock":http://trueskool.com/profile/DjMrMurdock
ATTACH;FMTTYPE="image/jpeg":http://storage.ning.com/topology/rest/1.0/
 file/get/2247959998?profile=original
ATTENDEE;ROLE=REQ-PARTICIPANT;PARTSTAT=ACCEPTED;RSVP=TRUE;CN="Dj Mr. M
 urdock":http://trueskool.com/profile/DjMrMurdock
END:VEVENT
END:VCALENDAR
