BEGIN:VCALENDAR
PRODID:NingEventWidget-v1
VERSION:2.0
METHOD:PUBLISH
BEGIN:VTIMEZONE
TZID:America/Los_Angeles
X-LIC-LOCATION:America/Los_Angeles
BEGIN:DAYLIGHT
TZOFFSETFROM:-0800
TZOFFSETTO:-0700
TZNAME:PDT
DTSTART:19700308T020000
RRULE:FREQ=YEARLY;BYMONTH=3;BYDAY=2SU
END:DAYLIGHT
BEGIN:STANDARD
TZOFFSETFROM:-0700
TZOFFSETTO:-0800
TZNAME:PST
DTSTART:19701101T020000
RRULE:FREQ=YEARLY;BYMONTH=11;BYDAY=1SU
END:STANDARD
END:VTIMEZONE
BEGIN:VEVENT
UID:1464587:Event:83375
DTSTAMP:20260420T120132Z
SUMMARY:We All We Got With Medusa @ Club Six (Darkroom)
DESCRIPTION:Inhouse Talent & We All We Got Present  MEDUSA (THEGANGSTA
 GODDESS.COM)  Hosted by SELLASSIE  ...   FRIDAY MAY 20, 2011  Club Six
   60 Sixth St, San Francisco 9:00pm/$10/21+  For info: www.sellassiefr
 isco.com  Tickets: https://www.brownpapertickets.com/event/175162  In 
 celebration of 4 new releases, Medusa, better known as “Gangsta Godd
 ess” headlines WE ALL WE GOT as it returns to Club Six on May 20th. 
 Presented by Inhouse Talent and hosted by Revolutionary Poet Sellassie
 , WE ALL WE GOT is an independent artist showcase designed to expose i
 nteresting and determined emerging artists, cultivate relationships, a
 nd build community. WE ALL WE GOT is a place to discover some new musi
 c you just might like and mightn’t hear elsewhere.  With “Choclet 
 Giddy Up,” “Lay Down Low” featuring MC Lyte, “Cali Frame” an
 d “Soul Elevation,” LA Rap Artist Medusa continues to prove her sk
 ills. Medusa is widely known as the Queen of LA Hip Hop with a strong 
 domestic and overseas fanbase. She has been highlighted on Showtime’
 s “This is the Life,” a documentary on the history of LA’s under
 ground movement stemming from the infamous “Goodlife Café” as wel
 l as HBO”s “Stanger Inside” and has hit the stage with Missy, Sa
 lt and Peppa, Rah Digga, Rage, MC Lyte, Trina, jean Grey, Roxaan Shant
 e’ and many more. After a recent twenty-seven (27) date tour, “Car
 diac Arrest”, Medusa came back to rock the Sunset Junction with Evel
 yn Champagne King and The Ohio Players. Her next project, “The Retur
 n of the Dream Team” will include the new single, “Cali Quake”, 
 with DJ Flict, DJ LD and MC Ariano.  WE ALL WE GOT host Sellassie is s
 hining as a leading progressive voice in S.F. Bay Hip Hop. With an acc
 laimed debut release, I’m Tryin’ to Make a Livin’ Not a Killin
 , and a new follow-up album, Sins of Your Forefathers, he is carving 
 his niche in Hip Hop. Although inspired and motivated from reading hun
 dreds of books, Sellassie is self-taught and came up on the streets. S
 ellassie’s lyric is rooted in a deep comprehension of the world arou
 nd him. He writes on domestic and world politics, international relati
 ons and community needs, corporate thuggery and the obstacles independ
 ent artists face. He has seen first hand the problems that his music a
 ddresses. He has seen black on black crime, he has lost many close fri
 ends to homicide, he has seen the drugs and money destroy his communit
 y, he has witnessed the decay of Independent Bay Hip Hop. In addition 
 to the new record, Sellassie is building this revolutionary show serie
 s WE ALL WE GOT, is working with many social, political and youth base
 d initiatives, and is a contributor to various special projects includ
 ing Emcees for Peace’s The Matter That Matters CD and the film, “I
 t Doesn’t Cost Nothin’ to Dream.“\n\n\nFor more information visi
 t http://trueskool.com/events/we-all-we-got-with-medusa
DTSTART;TZID=America/Los_Angeles:20110520T210000
DTEND;TZID=America/Los_Angeles:20110521T020000
CATEGORIES:san, francisco, "ca."
LOCATION:Club Six San Francisco
WEBSITE:http://www.clubsix1.com
URL:http://www.clubsix1.com
CONTACT:415-863-1221
ORGANIZER;CN=Cecily:http://trueskool.com/profile/Cecily
ATTACH;FMTTYPE="image/jpeg":http://storage.ning.com/topology/rest/1.0/
 file/get/2247895608?profile=original
ATTENDEE;ROLE=REQ-PARTICIPANT;PARTSTAT=ACCEPTED;RSVP=TRUE;CN=Cecily:ht
 tp://trueskool.com/profile/Cecily
END:VEVENT
END:VCALENDAR
