BEGIN:VCALENDAR
PRODID:NingEventWidget-v1
VERSION:2.0
METHOD:PUBLISH
BEGIN:VTIMEZONE
TZID:America/Los_Angeles
X-LIC-LOCATION:America/Los_Angeles
BEGIN:DAYLIGHT
TZOFFSETFROM:-0800
TZOFFSETTO:-0700
TZNAME:PDT
DTSTART:19700308T020000
RRULE:FREQ=YEARLY;BYMONTH=3;BYDAY=2SU
END:DAYLIGHT
BEGIN:STANDARD
TZOFFSETFROM:-0700
TZOFFSETTO:-0800
TZNAME:PST
DTSTART:19701101T020000
RRULE:FREQ=YEARLY;BYMONTH=11;BYDAY=1SU
END:STANDARD
END:VTIMEZONE
BEGIN:VEVENT
UID:1464587:Event:71322
DTSTAMP:20260421T034814Z
SUMMARY:WE ALL WE GOT at the Starry Plough
DESCRIPTION:Inhouse Talent Presents\nWe All We Got\nIndependent Hip Ho
 p Artist Showcase\nHosted by Sellassie\nThe Starry Plough\n3101 Shattu
 ck Ave, Berkeley, Ca\n9:00pm/$10/21+\nSellassie: www.sellassiefrisco.c
 om\nJibba “the Gent”¨ www.reverbnation.com/jibbathegent\nJ. Latel
 y: www. justlatelymusic.com\nDoc Prop: www.myspace.com/doctorproper\nL
 ido:\nDamn Pete: www.facebook.com/damnpete\nMagic Stylezz and Von Lee:
  www.reverbnation.com/#/magicstylezz\n\n——————————
 —–————————————-\nWE ALL WE GOT hits The St
 arry Plough in Berkeley with a special headline set by Sellassie. Pres
 ented by Inhouse Talent and hosted by Revolutionary Poet Sellassie, WE
  ALL WE GOT is an independent artist showcase designed to expose inter
 esting and determined emerging artists, cultivate relationships, and b
 uild community. The series is creating a movement where upcoming artis
 ts can gain exposure and experience and perform alongside legendary ar
 tists. WE ALL WE GOT is a place to discover some new music you just mi
 ght like and mightn’t hear elsewhere.\n\nWE ALL WE GOT host Sellassi
 e is shining as a leading progressive voice in S.F. Bay Hip Hop. With 
 an acclaimed debut release, I’m Tryin’ to Make a Livin’ Not a Ki
 llin’, and a new follow-up album, Sins of Your Forefathers, he is ca
 rving his niche in Hip Hop. Although inspired and motivated from readi
 ng hundreds of books, Sellassie is self-taught and came up on the stre
 ets. Sellassie’s lyric is rooted in a deep comprehension of the worl
 d around him. He writes on domestic and world politics, international 
 relations and community needs, corporate thuggery and the obstacles in
 dependent artists face. He has seen first hand the problems that his m
 usic addresses. He has seen black on black crime, he has lost many clo
 se friends to homicide, he has seen the drugs and money destroy his co
 mmunity, he has witnessed the decay of Independent Bay Hip Hop. In add
 ition to the new record, Sellassie is building this revolutionary show
  series WE ALL WE GOT, is working with many social, political and yout
 h based initiatives, and is a contributor to various special projects 
 including Emcees for Peace’s The Matter That Matters CD and the film
 , “It Doesn’t Cost Nothin’ to Dream.“\n\nProudly Sponsored by 
 Reverb Nation, Fusicology and the Hip Hop Congress.\n\nPress Contact:\
 nGina Gallo\ninfo@inhousetalent.com\nMedia Passes, Interviews and Prom
 o Packages Available\n\n# # #\nInhouse Talent is a San Francisco-based
  artist management and events production company aimed to motivate and
  inspire thru un compromised, progressive, independent music and art.\
 n\nFor more information visit http://trueskool.com/events/we-all-we-go
 t-at-the-starry
DTSTART;TZID=America/Los_Angeles:20101204T210000
DTEND;TZID=America/Los_Angeles:20101205T020000
CATEGORIES:berkeley, sf, oakland, hip, hop, rap, bay
LOCATION:The Starry Plough
WEBSITE:http://www.sellassiefrisco.com
URL:http://www.sellassiefrisco.com
CONTACT:
ORGANIZER;CN="Inhouse Talent":http://trueskool.com/profile/InhouseTale
 nt
ATTACH;FMTTYPE="image/jpeg":http://storage.ning.com/topology/rest/1.0/
 file/get/2247887305?profile=original
ATTENDEE;ROLE=REQ-PARTICIPANT;PARTSTAT=ACCEPTED;RSVP=TRUE;CN="Inhouse 
 Talent":http://trueskool.com/profile/InhouseTalent
END:VEVENT
END:VCALENDAR
