BEGIN:VCALENDAR
PRODID:NingEventWidget-v1
VERSION:2.0
METHOD:PUBLISH
BEGIN:VTIMEZONE
TZID:America/Los_Angeles
X-LIC-LOCATION:America/Los_Angeles
BEGIN:DAYLIGHT
TZOFFSETFROM:-0800
TZOFFSETTO:-0700
TZNAME:PDT
DTSTART:19700308T020000
RRULE:FREQ=YEARLY;BYMONTH=3;BYDAY=2SU
END:DAYLIGHT
BEGIN:STANDARD
TZOFFSETFROM:-0700
TZOFFSETTO:-0800
TZNAME:PST
DTSTART:19701101T020000
RRULE:FREQ=YEARLY;BYMONTH=11;BYDAY=1SU
END:STANDARD
END:VTIMEZONE
BEGIN:VEVENT
UID:1464587:Event:635264
DTSTAMP:20260422T031909Z
SUMMARY:Warriors Fridays
DESCRIPTION:https://www.facebook.com/pages/Reggae-warriors-friday/1791
 910721035761\n\nFor more information visit http://trueskool.com/events
 /warriors-fridays-1
DTSTART;TZID=America/Los_Angeles:20150821T190000
DTEND;TZID=America/Los_Angeles:20150822T020000
CATEGORIES:"oakland#reggae#dancehall#food#music#irie#venue"
LOCATION:Crate,Oakland
WEBSITE:
URL:
CONTACT:
ORGANIZER;CN="Dyimah Rodgers":http://trueskool.com/profile/DyimahRodge
 rs
ATTACH;FMTTYPE="image/jpeg":http://storage.ning.com/topology/rest/1.0/
 file/get/2068664129?profile=original
ATTENDEE;ROLE=REQ-PARTICIPANT;PARTSTAT=ACCEPTED;RSVP=TRUE;CN="Dyimah R
 odgers":http://trueskool.com/profile/DyimahRodgers
END:VEVENT
END:VCALENDAR
