BEGIN:VCALENDAR
PRODID:NingEventWidget-v1
VERSION:2.0
METHOD:PUBLISH
BEGIN:VTIMEZONE
TZID:America/Los_Angeles
X-LIC-LOCATION:America/Los_Angeles
BEGIN:DAYLIGHT
TZOFFSETFROM:-0800
TZOFFSETTO:-0700
TZNAME:PDT
DTSTART:19700308T020000
RRULE:FREQ=YEARLY;BYMONTH=3;BYDAY=2SU
END:DAYLIGHT
BEGIN:STANDARD
TZOFFSETFROM:-0700
TZOFFSETTO:-0800
TZNAME:PST
DTSTART:19701101T020000
RRULE:FREQ=YEARLY;BYMONTH=11;BYDAY=1SU
END:STANDARD
END:VTIMEZONE
BEGIN:VEVENT
UID:1464587:Event:647606
DTSTAMP:20260420T102211Z
SUMMARY:Warren G (WIN TICKETS)
DESCRIPTION:ENTER TO WIN A PAIR OF TICKETS. WINNER WILL BE DRAWN RANDO
 MLY AND ANNOUNCED 2 DAYS PRIOR TO EVENT.  \n\n\nSUNDAY, MAY 15\nWarr
 en G\nThe G-Funk Experience\n\nPlus: Ren the Vinyl Archaeologist\n\n@ 
 Mighty, 119 Utah St., San Francisco 8pm doors. 9pm show.\n>> BUY TICKE
 TS\n\n\n\nFor more information visit http://trueskool.com/events/warre
 n-g
DTSTART;TZID=America/Los_Angeles:20160515T200000
DTEND;TZID=America/Los_Angeles:20160515T230000
CATEGORIES:"bay area", "san francisco"
LOCATION:Mighty, SF
WEBSITE:http://www.ticketweb.com/t3/sale/SaleEventDetail?eventId=66661
 75&pl=shealy&dispatch=loadSelectionData
URL:http://www.ticketweb.com/t3/sale/SaleEventDetail?eventId=6666175&p
 l=shealy&dispatch=loadSelectionData
CONTACT:
ORGANIZER:Tastemaker Live & Sean Healy
ATTACH;FMTTYPE="image/jpeg":http://storage.ning.com/topology/rest/1.0/
 file/get/2247987122?profile=original
ATTENDEE;ROLE=REQ-PARTICIPANT;PARTSTAT=ACCEPTED;RSVP=TRUE;CN="Editor's
  Pick":http://trueskool.com/profile/RentheVinylArchaeologist
END:VEVENT
END:VCALENDAR
