BEGIN:VCALENDAR
PRODID:NingEventWidget-v1
VERSION:2.0
METHOD:PUBLISH
BEGIN:VTIMEZONE
TZID:America/Los_Angeles
X-LIC-LOCATION:America/Los_Angeles
BEGIN:DAYLIGHT
TZOFFSETFROM:-0800
TZOFFSETTO:-0700
TZNAME:PDT
DTSTART:19700308T020000
RRULE:FREQ=YEARLY;BYMONTH=3;BYDAY=2SU
END:DAYLIGHT
BEGIN:STANDARD
TZOFFSETFROM:-0700
TZOFFSETTO:-0800
TZNAME:PST
DTSTART:19701101T020000
RRULE:FREQ=YEARLY;BYMONTH=11;BYDAY=1SU
END:STANDARD
END:VTIMEZONE
BEGIN:VEVENT
UID:1464587:Event:676004
DTSTAMP:20260420T225323Z
SUMMARY:WARREN G
DESCRIPTION:Open Dance Floor!\r\nWARREN G\r\nTuesday Jul 10, 2018 Door
 s: 7:30 PM  Show: 8:00 PM\r\n$37 - $79\r\nYoshi's Oakland 510 Embarcad
 ero West  Oakland, CA\n\nFor more information visit http://trueskool.c
 om/events/warren-g-1
DTSTART;TZID=America/Los_Angeles:20180710T200000
DTEND;TZID=America/Los_Angeles:20180710T230000
CATEGORIES:"bay area", oakland, "san francisco", "san jose", berkeley
LOCATION:Yoshi's Oakland
WEBSITE:https://www.ticketfly.com/purchase/event/1685793?_ga=2.2027303
 85.1860813629.1529067049-1563873870.1529067049&amp;__utma=1.722224093.
 1529067049.1529067049.1529068243.2&amp;__utmb=1.3.10.1529068243&amp;__
 utmc=1&amp;__utmx=-&amp;__utmz=1.1529068243.2.2.utmcsr=google|utmccn=(
 organic)|utmcmd=organic|utmctr=(not%20provided)&amp;__utmv=-&amp;__utm
 k=227405981
URL:https://www.ticketfly.com/purchase/event/1685793?_ga=2.202730385.1
 860813629.1529067049-1563873870.1529067049&amp;__utma=1.722224093.1529
 067049.1529067049.1529068243.2&amp;__utmb=1.3.10.1529068243&amp;__utmc
 =1&amp;__utmx=-&amp;__utmz=1.1529068243.2.2.utmcsr=google|utmccn=(orga
 nic)|utmcmd=organic|utmctr=(not%20provided)&amp;__utmv=-&amp;__utmk=22
 7405981
CONTACT:
ORGANIZER;CN="Editor's Pick":http://trueskool.com/profile/RentheVinylA
 rchaeologist
ATTACH;FMTTYPE="image/jpeg":http://storage.ning.com/topology/rest/1.0/
 file/get/2248007122?profile=original
ATTENDEE;ROLE=REQ-PARTICIPANT;PARTSTAT=ACCEPTED;RSVP=TRUE;CN="Editor's
  Pick":http://trueskool.com/profile/RentheVinylArchaeologist
END:VEVENT
END:VCALENDAR
