BEGIN:VCALENDAR
PRODID:NingEventWidget-v1
VERSION:2.0
METHOD:PUBLISH
BEGIN:VTIMEZONE
TZID:America/Los_Angeles
X-LIC-LOCATION:America/Los_Angeles
BEGIN:DAYLIGHT
TZOFFSETFROM:-0800
TZOFFSETTO:-0700
TZNAME:PDT
DTSTART:19700308T020000
RRULE:FREQ=YEARLY;BYMONTH=3;BYDAY=2SU
END:DAYLIGHT
BEGIN:STANDARD
TZOFFSETFROM:-0700
TZOFFSETTO:-0800
TZNAME:PST
DTSTART:19701101T020000
RRULE:FREQ=YEARLY;BYMONTH=11;BYDAY=1SU
END:STANDARD
END:VTIMEZONE
BEGIN:VEVENT
UID:1464587:Event:551827
DTSTAMP:20260420T214518Z
SUMMARY:Waka Flocka Flame (New Orleans)
DESCRIPTION:\nDate\nLocation\nEvent Details\nFind Tickets\n\n\nMAR  
 \n6\nFRI\n\nVarsity TheatreBaton Rouge, LA08:30 PM\n\nWaka Flocka Fla
 me with Kool DJ Supamike & Ben GDetails: Waka Flocka Flame\nSee Ticket
 son TicketWeb\n\n\n\n\n\nFor more information visit http://trueskool.c
 om/events/waka-flocka-flame-new-orleans
DTSTART;TZID=America/Los_Angeles:20150306T203000
DTEND;TZID=America/Los_Angeles:20150306T230000
CATEGORIES:new, orleans, louisiana, la
LOCATION:Varsity Theatre, Baton Rouge
WEBSITE:http://www.ticketweb.com/t3/sale/SaleEventDetail?dispatch=load
 SelectionData&eventId=5620625&REFERRAL_ID=tmfeed&crosssite=TM_US:14731
 92:341927
URL:http://www.ticketweb.com/t3/sale/SaleEventDetail?dispatch=loadSele
 ctionData&eventId=5620625&REFERRAL_ID=tmfeed&crosssite=TM_US:1473192:3
 41927
CONTACT:
ORGANIZER;CN="Editor's Pick":http://trueskool.com/profile/RentheVinylA
 rchaeologist
ATTACH;FMTTYPE="image/jpeg":http://storage.ning.com/topology/rest/1.0/
 file/get/2247973060?profile=original
ATTENDEE;ROLE=REQ-PARTICIPANT;PARTSTAT=ACCEPTED;RSVP=TRUE;CN="Editor's
  Pick":http://trueskool.com/profile/RentheVinylArchaeologist
END:VEVENT
END:VCALENDAR
