BEGIN:VCALENDAR
PRODID:NingEventWidget-v1
VERSION:2.0
METHOD:PUBLISH
BEGIN:VTIMEZONE
TZID:America/Los_Angeles
X-LIC-LOCATION:America/Los_Angeles
BEGIN:DAYLIGHT
TZOFFSETFROM:-0800
TZOFFSETTO:-0700
TZNAME:PDT
DTSTART:19700308T020000
RRULE:FREQ=YEARLY;BYMONTH=3;BYDAY=2SU
END:DAYLIGHT
BEGIN:STANDARD
TZOFFSETFROM:-0700
TZOFFSETTO:-0800
TZNAME:PST
DTSTART:19701101T020000
RRULE:FREQ=YEARLY;BYMONTH=11;BYDAY=1SU
END:STANDARD
END:VTIMEZONE
BEGIN:VEVENT
UID:1464587:Event:644491
DTSTAMP:20260420T174805Z
SUMMARY:\"Viva El Amor\" Sunset Boat Party & Equinox Celebration
DESCRIPTION:SKIN World Wide Presents:\n“Viva El Amor” Sunset Boat 
 Party & Equinox Celebration\nSaturday, March 19th 2016\n \nJoin us in
  returning to a place where spirit is our common denominator and love,
  our greatest guide. We’ll converge over the lushest global rhythms 
 while casting all worries to the rugged shore behind us.\n \nFeaturin
 g:\nOAKLAND FLAMENCO SESSIONS\n \nResident DJ’s:\nCecil\nEmancipaci
 on\nHosted By Ms. Candi\nLive Percussion | Two Full Bars | Sweeping Ba
 y Area Views | Multiple Levels\n\nCelebrations on the Bay : Riverboat\
 nJack London Square\nBroadway Pier (Between Lungomare & Scott’s Rest
 aurant)\nOakland, CA | 21 & Over | Limited Capacity\n \nBoarding Begi
 ns 4:15PM\nBoarding Ends 5:00PM\nBoat Returns 8:00PM\n \nTickets: viv
 aelamor.brownpapertickets.com\n\n\n\n\n\n\n\n \n\n\n\n\n\n\nAbout the
  Boat:\n“Bay Celebrations” is a locally owned, double decked river
 boat style vessel powered by twin engines. The boat is wheelchair acce
 ssible and features a full bar and indoor / outdoor areas. The boat mo
 ves very slowly for maximum comfort and will tour the lovely waters of
  the SF Bay with viewings of the Bay Bridge, Golden Gate and Alcatraz.
  Meeting place will be at Jack London Sq, between Lungomare and Scott
 s Restaurant.\n \nFor More Information: 510.629.1855\nSoca | Samba 
 | Dancehall | Afro-House | Kudoro | Festejo | Salsa | Coupé-Décalé 
 | Azonto | Cumbia\n\nFor more information visit http://trueskool.com/e
 vents/viva-el-amor-sunset-boat-party-equinox-celebration
DTSTART;TZID=America/Los_Angeles:20160319T160000
DTEND;TZID=America/Los_Angeles:20160319T200000
CATEGORIES:oakland, dj, cecil, emancipacion, flamenco, sessions, sunse
 t, boat, party, world, music, afro-house, soca, salsa, samba, cumbia, 
 festejo
LOCATION:Jack London Square, Oakland, CA
WEBSITE:http://vivaelamor.brownpapertickets.com
URL:http://vivaelamor.brownpapertickets.com
CONTACT:510.629.1855
ORGANIZER;CN="miss candi":http://trueskool.com/profile/misscandi
ATTACH;FMTTYPE="image/jpeg":http://storage.ning.com/topology/rest/1.0/
 file/get/2247984492?profile=original
ATTENDEE;ROLE=REQ-PARTICIPANT;PARTSTAT=ACCEPTED;RSVP=TRUE;CN="miss can
 di":http://trueskool.com/profile/misscandi
END:VEVENT
END:VCALENDAR
