BEGIN:VCALENDAR
PRODID:NingEventWidget-v1
VERSION:2.0
METHOD:PUBLISH
BEGIN:VTIMEZONE
TZID:America/Los_Angeles
X-LIC-LOCATION:America/Los_Angeles
BEGIN:DAYLIGHT
TZOFFSETFROM:-0800
TZOFFSETTO:-0700
TZNAME:PDT
DTSTART:19700308T020000
RRULE:FREQ=YEARLY;BYMONTH=3;BYDAY=2SU
END:DAYLIGHT
BEGIN:STANDARD
TZOFFSETFROM:-0700
TZOFFSETTO:-0800
TZNAME:PST
DTSTART:19701101T020000
RRULE:FREQ=YEARLY;BYMONTH=11;BYDAY=1SU
END:STANDARD
END:VTIMEZONE
BEGIN:VEVENT
UID:1464587:Event:651765
DTSTAMP:20260420T102245Z
SUMMARY:VIC MENSA
DESCRIPTION:\nVIC MENSA with Joey Purp\n Friday, August 5, 2016 Doors:
  10:00PM |Show: 11:00PM 1270 Sutter Street San Francisco, CA 94105 414
 -777-1715 SOCIAL HALL SF\n\nFor more information visit http://trueskoo
 l.com/events/vic-mensa
DTSTART;TZID=America/Los_Angeles:20160805T220000
DTEND;TZID=America/Los_Angeles:20160806T000000
CATEGORIES:"san francisco", oakland, berkley, "san jose", "bay area"
LOCATION:Social Hall, San Francisco
WEBSITE:http://www.axs.com/events/311421/vic-mensa-tickets?skin=golden
 voice
URL:http://www.axs.com/events/311421/vic-mensa-tickets?skin=goldenvoic
 e
CONTACT:
ORGANIZER;CN="Editor's Pick":http://trueskool.com/profile/RentheVinylA
 rchaeologist
ATTACH;FMTTYPE="image/jpeg":http://storage.ning.com/topology/rest/1.0/
 file/get/2247989742?profile=original
ATTENDEE;ROLE=REQ-PARTICIPANT;PARTSTAT=ACCEPTED;RSVP=TRUE;CN="Editor's
  Pick":http://trueskool.com/profile/RentheVinylArchaeologist
END:VEVENT
END:VCALENDAR
