BEGIN:VCALENDAR
PRODID:NingEventWidget-v1
VERSION:2.0
METHOD:PUBLISH
BEGIN:VTIMEZONE
TZID:America/Los_Angeles
X-LIC-LOCATION:America/Los_Angeles
BEGIN:DAYLIGHT
TZOFFSETFROM:-0800
TZOFFSETTO:-0700
TZNAME:PDT
DTSTART:19700308T020000
RRULE:FREQ=YEARLY;BYMONTH=3;BYDAY=2SU
END:DAYLIGHT
BEGIN:STANDARD
TZOFFSETFROM:-0700
TZOFFSETTO:-0800
TZNAME:PST
DTSTART:19701101T020000
RRULE:FREQ=YEARLY;BYMONTH=11;BYDAY=1SU
END:STANDARD
END:VTIMEZONE
BEGIN:VEVENT
UID:1464587:Event:338622
DTSTAMP:20260421T015800Z
SUMMARY:Venus Tour Bus adventure to Bicycle Day
DESCRIPTION:♦ VΣℵU§ ₱RΦDU¢TI∅ℵ§ ₱RΣ$ΣℵT§ ♦ Pa
 rty like a rockstar and show up in style on The Venus Tour Bus to Bi
 cycle Day both days !♦ Don't be stress or be late looking for parkin
 g ♦ Keep all your friends together ♦ Pre-party with complementar
 y beer ♦ Arrive and return safely ♦ No time wasted waiting aroun
 d for a taxi♦ Enjoy Venus Sound System withJOCELYN CARLA DLUD DUBGE
 NERAL NAOThe pick up and drop off location is at WEST OAKLAND BART (no
  transfer needed from this station) Pick up times are :6:00 pm 7:00 
 pm8:00 pmMeet in front of the REGENCY BALL ROOM to return to WEST OAKL
 AND BART Return times are :1:00 am 2:00 am2:40 am BUS LEAVES ON TIM
 E !!!!!Limited space available, assure your ride by purchasing your ti
 cket donation for friends and family on Pay Pal.~ Only 90 tickets avai
 lable per day~ $10 round-trip~ $5 one way yambba99@gmail.com\n\n\n\n\
 n\n\n\n\n\nFor more information visit http://trueskool.com/events/venu
 s-tour-bus-adventure-to-bicycle-day
DTSTART;TZID=America/Los_Angeles:20140419T180000
DTEND;TZID=America/Los_Angeles:20140420T190000
CATEGORIES:"san francisco", "bay area"
LOCATION:The Venus Tour Bus
WEBSITE:http://https://www.paypal.com/webapps/business/
URL:http://https://www.paypal.com/webapps/business/
CONTACT:510-388-1656
ORGANIZER;CN="rich cruz":http://trueskool.com/profile/richcruz
ATTACH;FMTTYPE="image/jpeg":http://storage.ning.com/topology/rest/1.0/
 file/get/2247960965?profile=original
ATTENDEE;ROLE=REQ-PARTICIPANT;PARTSTAT=ACCEPTED;RSVP=TRUE;CN="rich cru
 z":http://trueskool.com/profile/richcruz
END:VEVENT
END:VCALENDAR
