BEGIN:VCALENDAR
PRODID:NingEventWidget-v1
VERSION:2.0
METHOD:PUBLISH
BEGIN:VTIMEZONE
TZID:America/Los_Angeles
X-LIC-LOCATION:America/Los_Angeles
BEGIN:DAYLIGHT
TZOFFSETFROM:-0800
TZOFFSETTO:-0700
TZNAME:PDT
DTSTART:19700308T020000
RRULE:FREQ=YEARLY;BYMONTH=3;BYDAY=2SU
END:DAYLIGHT
BEGIN:STANDARD
TZOFFSETFROM:-0700
TZOFFSETTO:-0800
TZNAME:PST
DTSTART:19701101T020000
RRULE:FREQ=YEARLY;BYMONTH=11;BYDAY=1SU
END:STANDARD
END:VTIMEZONE
BEGIN:VEVENT
UID:1464587:Event:627713
DTSTAMP:20260420T204020Z
SUMMARY:Venus Rising Collective Kickoff @ Legionnaire Saloon!
DESCRIPTION:Venus Rising Collective is an all female art collective wi
 th a foundation in the four elements of hip hop, also including other 
 realms of art and various vendors. The kickoff event will feature the 
 creative talents of : Open Mic and Cypher Session Ft. Sister Cypher, O
 livia Ruff & Mamas Soup, Richelle Scales Project, Agatron Productions,
  Coco Peila and DJ Lady Ryan.\nOpen Mic/Cypher starts at 9:30\nMay 2nd
  @ Legionnaire, Oakland\n$5 before 10pm/$7 after 10pm\n21+ event * Hip
 Hop in the Park afterparty*\nFREE Giveaways & Raffle!\n\n\nFor more in
 formation visit http://trueskool.com/events/venus-rising-collective-ki
 ckoff-legionnaire-saloon
DTSTART;TZID=America/Los_Angeles:20150502T210000
DTEND;TZID=America/Los_Angeles:20150503T010000
CATEGORIES:oakland, bay, area, california
LOCATION:The Legionnaire Saloon, Oakland, Ca
WEBSITE:https://www.facebook.com/events/977729018938485/
URL:https://www.facebook.com/events/977729018938485/
CONTACT:5109439587
ORGANIZER;CN="Angel Powers":http://trueskool.com/profile/AngelPowers
ATTACH;FMTTYPE="image/jpeg":
ATTENDEE;ROLE=REQ-PARTICIPANT;PARTSTAT=ACCEPTED;RSVP=TRUE;CN="Angel Po
 wers":http://trueskool.com/profile/AngelPowers
END:VEVENT
END:VCALENDAR
