BEGIN:VCALENDAR
PRODID:NingEventWidget-v1
VERSION:2.0
METHOD:PUBLISH
BEGIN:VTIMEZONE
TZID:America/Los_Angeles
X-LIC-LOCATION:America/Los_Angeles
BEGIN:DAYLIGHT
TZOFFSETFROM:-0800
TZOFFSETTO:-0700
TZNAME:PDT
DTSTART:19700308T020000
RRULE:FREQ=YEARLY;BYMONTH=3;BYDAY=2SU
END:DAYLIGHT
BEGIN:STANDARD
TZOFFSETFROM:-0700
TZOFFSETTO:-0800
TZNAME:PST
DTSTART:19701101T020000
RRULE:FREQ=YEARLY;BYMONTH=11;BYDAY=1SU
END:STANDARD
END:VTIMEZONE
BEGIN:VEVENT
UID:1464587:Event:337673
DTSTAMP:20260421T115755Z
SUMMARY:Velvet Rope feat. Faze Apparel
DESCRIPTION:Spice up your Friday night and come out to Sloane! Enjoy a
  vivacious happy hour of drink and champagne specials while enjoying m
 usic created by nothing short of musical masterminds. Good music, good
  prices and great times! 2 for 1 WELL Drink Specials from 9:30-10:30pm
  Dj's spinning Classic's and Hip Hop New Wave 80's Old School music fe
 aturing with special guest from Hawaii Osani and the TruthLive with li
 ve painting in the front room by Sofi Villena.\n\nCome and party with 
 the Folks from Faze Apparell and get a glimpse at their newest Color i
 s Power Collection!\n\nLink to RSVP for FREE entry until 10:30pm: http
 ://www.sloanesf.com/ or email a list of names to paigesguestlist@gmail
 .com no later than 4pm the day of the event.\n\n$50 Champagne Specials
  Contact: Bottles@sloanesf.com Dress to impress! Hope to see you on th
 e dance floor!\n\nFor more information visit http://trueskool.com/even
 ts/velvet-rope-feat-faze-apparel
DTSTART;TZID=America/Los_Angeles:20140411T213000
DTEND;TZID=America/Los_Angeles:20140412T020000
CATEGORIES:san, francisco
LOCATION:Slaone, San Francisco, CA
WEBSITE:http://www.sloanesf.com
URL:http://www.sloanesf.com
CONTACT:​415-621-2085
ORGANIZER:Velvet Rope
ATTACH;FMTTYPE="image/jpeg":
ATTENDEE;ROLE=REQ-PARTICIPANT;PARTSTAT=ACCEPTED;RSVP=TRUE;CN="Page Par
 ker":http://trueskool.com/profile/PageParker
END:VEVENT
END:VCALENDAR
