BEGIN:VCALENDAR
PRODID:NingEventWidget-v1
VERSION:2.0
METHOD:PUBLISH
BEGIN:VTIMEZONE
TZID:America/Los_Angeles
X-LIC-LOCATION:America/Los_Angeles
BEGIN:DAYLIGHT
TZOFFSETFROM:-0800
TZOFFSETTO:-0700
TZNAME:PDT
DTSTART:19700308T020000
RRULE:FREQ=YEARLY;BYMONTH=3;BYDAY=2SU
END:DAYLIGHT
BEGIN:STANDARD
TZOFFSETFROM:-0700
TZOFFSETTO:-0800
TZNAME:PST
DTSTART:19701101T020000
RRULE:FREQ=YEARLY;BYMONTH=11;BYDAY=1SU
END:STANDARD
END:VTIMEZONE
BEGIN:VEVENT
UID:1464587:Event:131670
DTSTAMP:20260420T145400Z
SUMMARY:Vacation
DESCRIPTION:PHNTM CLUB & Som Bar present\n \n \n- - - VACATION - - -
 \n \nmusic by\nBabymuah http://twitter.com/babymuah\n99lvlz http://so
 undcloud.com/99lvlz\nCΞLL▽S as Shawn Kemp http://soundcloud.com/cel
 lus\nOscar http://twitter.com/allworknopay\n \nhosted by\nErin Bates 
 http://twitter.com/celebates\nBilly Roper http://twitter.com/billyrope
 r\n \nSom Bar • 2925 16th St. SF/CA\n \nFacebook RSVP: http://www
 .facebook.com/events/354079231337954/\n\nFor more information visit ht
 tp://trueskool.com/events/vacation-1
DTSTART;TZID=America/Los_Angeles:20120831T220000
DTEND;TZID=America/Los_Angeles:20120901T020000
CATEGORIES:bay, area, san, francisco, ca
LOCATION:Som Bar, San Francisco
WEBSITE:
URL:
CONTACT:
ORGANIZER;CN="Marcellus Holmes":http://trueskool.com/profile/Marcellus
 Holmes
ATTACH;FMTTYPE="image/jpeg":
ATTENDEE;ROLE=REQ-PARTICIPANT;PARTSTAT=ACCEPTED;RSVP=TRUE;CN="Marcellu
 s Holmes":http://trueskool.com/profile/MarcellusHolmes
END:VEVENT
END:VCALENDAR
