BEGIN:VCALENDAR
PRODID:NingEventWidget-v1
VERSION:2.0
METHOD:PUBLISH
BEGIN:VTIMEZONE
TZID:America/Los_Angeles
X-LIC-LOCATION:America/Los_Angeles
BEGIN:DAYLIGHT
TZOFFSETFROM:-0800
TZOFFSETTO:-0700
TZNAME:PDT
DTSTART:19700308T020000
RRULE:FREQ=YEARLY;BYMONTH=3;BYDAY=2SU
END:DAYLIGHT
BEGIN:STANDARD
TZOFFSETFROM:-0700
TZOFFSETTO:-0800
TZNAME:PST
DTSTART:19701101T020000
RRULE:FREQ=YEARLY;BYMONTH=11;BYDAY=1SU
END:STANDARD
END:VTIMEZONE
BEGIN:VEVENT
UID:1464587:Event:470378
DTSTAMP:20260420T215305Z
SUMMARY:Universal Zulu Nation-All Tribes Sf Present Meeting Of The Min
 ds 2014
DESCRIPTION:The San Francisco chapter of the Universal Zulu Nation, Al
 l Tribes SF, will be celebrating their 9th Anniversary with Meeting of
  the Minds, an event dedicated to hip-hop education.Event features:- I
 ndigenous blessing from members of the Ohlone Nation - Open forum on 
 gentrification, moderated by Dregs One- Panel discussion on community
  involvement through hip-hop, featuring Tajai (Souls of Mischief), Big
  Rich (Project Level), CMG (Conscious Daughters), Kaila Love (MC, educ
 ator), Delrokz (DJ, b-boy, educator- All Tribes) - moderated by Davey
  D- Information on community organizations and resources- Organic food
  provided by Underdog SF- Activities for children and families- Hosted
  by Patience- DJs Koo C & TD Camp -Special guests: Chuy Gomez, 
 Hugh Emc, and more TBAAll ages - $10 suggested donation (no one turned
  away for lack of funds) - drug/alcohol-free safe community space\n\nF
 or more information visit http://trueskool.com/events/universal-zulu-n
 ation-all-tribes-sf-present-meeting-of-the-minds
DTSTART;TZID=America/Los_Angeles:20141206T120000
DTEND;TZID=America/Los_Angeles:20141206T180000
CATEGORIES:mission, culture, center, for, latino, arts
LOCATION:San Francisco
WEBSITE:https://www.google.com/maps/place/2868+Mission+St,+San+Francis
 co,+CA+94110/@37.7524542,-122.4185088,17z/data=!3m1!4b1!4m2!3m1!1s0x80
 8f7e40b367a647:0x6b358de3ccea7520
URL:https://www.google.com/maps/place/2868+Mission+St,+San+Francisco,+
 CA+94110/@37.7524542,-122.4185088,17z/data=!3m1!4b1!4m2!3m1!1s0x808f7e
 40b367a647:0x6b358de3ccea7520
CONTACT:
ORGANIZER:Universal Zulu Nation All Tribes SF
ATTACH;FMTTYPE="image/jpeg":http://storage.ning.com/topology/rest/1.0/
 file/get/2247971338?profile=original
ATTENDEE;ROLE=REQ-PARTICIPANT;PARTSTAT=ACCEPTED;RSVP=TRUE;CN="Boogie T
 heMann":http://trueskool.com/profile/BoogieTheMann
END:VEVENT
END:VCALENDAR
