BEGIN:VCALENDAR
PRODID:NingEventWidget-v1
VERSION:2.0
METHOD:PUBLISH
BEGIN:VTIMEZONE
TZID:America/Los_Angeles
X-LIC-LOCATION:America/Los_Angeles
BEGIN:DAYLIGHT
TZOFFSETFROM:-0800
TZOFFSETTO:-0700
TZNAME:PDT
DTSTART:19700308T020000
RRULE:FREQ=YEARLY;BYMONTH=3;BYDAY=2SU
END:DAYLIGHT
BEGIN:STANDARD
TZOFFSETFROM:-0700
TZOFFSETTO:-0800
TZNAME:PST
DTSTART:19701101T020000
RRULE:FREQ=YEARLY;BYMONTH=11;BYDAY=1SU
END:STANDARD
END:VTIMEZONE
BEGIN:VEVENT
UID:1464587:Event:466387
DTSTAMP:20260421T021917Z
SUMMARY:UNDIVIDED 4: Sacramento w/ Th3 Saga, Team Zoe, Mission (RPSMG)
DESCRIPTION:Undivided 4: Sacramento, an admission-free concert that fo
 cuses on building diversity and unity to different communities through
  urban art.Performances:Th3 SagaTeam ZoeMission (of RPSMG)Izrael Graha
 mBwanMister ReyCasperDrew AllenLine-Up Subject to Change*DJ Set by Hou
 se of Slap's DJ AnointedPresented by:Lyrical OppositionHouse of Slap R
 adioKing's LoungerHISenRSVP for FREE at http://undivided.splashthat.co
 m/Free Event, Donations are welcome.\n\nFor more information visit htt
 p://trueskool.com/events/undivided-4-sacramento-w-th3-saga-team-zoe-mi
 ssion-rpsmg
DTSTART;TZID=America/Los_Angeles:20141114T190000
DTEND;TZID=America/Los_Angeles:20141114T220000
CATEGORIES:sacramento, hiphop
LOCATION:Sol Collective
WEBSITE:http://undivided.splashthat.com
URL:http://undivided.splashthat.com
CONTACT:4242603650
ORGANIZER;CN="Lyrical Opposition":http://trueskool.com/profile/Lyrical
 Opposition
ATTACH;FMTTYPE="image/jpeg":http://storage.ning.com/topology/rest/1.0/
 file/get/2247971861?profile=original
ATTENDEE;ROLE=REQ-PARTICIPANT;PARTSTAT=ACCEPTED;RSVP=TRUE;CN="Lyrical 
 Opposition":http://trueskool.com/profile/LyricalOpposition
END:VEVENT
END:VCALENDAR
