BEGIN:VCALENDAR
PRODID:NingEventWidget-v1
VERSION:2.0
METHOD:PUBLISH
BEGIN:VTIMEZONE
TZID:America/Los_Angeles
X-LIC-LOCATION:America/Los_Angeles
BEGIN:DAYLIGHT
TZOFFSETFROM:-0800
TZOFFSETTO:-0700
TZNAME:PDT
DTSTART:19700308T020000
RRULE:FREQ=YEARLY;BYMONTH=3;BYDAY=2SU
END:DAYLIGHT
BEGIN:STANDARD
TZOFFSETFROM:-0700
TZOFFSETTO:-0800
TZNAME:PST
DTSTART:19701101T020000
RRULE:FREQ=YEARLY;BYMONTH=11;BYDAY=1SU
END:STANDARD
END:VTIMEZONE
BEGIN:VEVENT
UID:1464587:Event:426156
DTSTAMP:20260421T002227Z
SUMMARY:Undivided 3: Kingdom Festival featuring MC JIN, Ruby Ibarra, D
 rew Allen, The Delivery, Saylah Flowz, Team Zoe & More!
DESCRIPTION:Lyrical Opposition, King's Lounge, and House of Slap Radio
  present Undivided 3: Kingdom Festival, an admission-free concert that
  focuses on building an art community by bringing diversity and unity 
 to different communities through urban art.Performances:MC JinRuby Iba
 rraSAYLAH FlowzTeam ZoeThe DeliveryDrew AllenUncommon CultureAle-Jhay2
 ND natureS.V. One (of Lyrical Opposition)RSVP for FREE at http://undiv
 ided.splashthat.comFree Event, Donations are welcome. Proceed will be 
 going to the SOLD Project.\n\nFor more information visit http://truesk
 ool.com/events/undivided-3-kingdom-festival-featuring-mc-jin-ruby-ibar
 ra-drew
DTSTART;TZID=America/Los_Angeles:20140919T190000
DTEND;TZID=America/Los_Angeles:20140919T220000
CATEGORIES:oakland, bay, area, san, francisco
LOCATION:Club Zoe, Oakland
WEBSITE:http://undivided.splashthat.com
URL:http://undivided.splashthat.com
CONTACT:4242603650
ORGANIZER;CN="Lyrical Opposition":http://trueskool.com/profile/Lyrical
 Opposition
ATTACH;FMTTYPE="image/jpeg":http://storage.ning.com/topology/rest/1.0/
 file/get/2247967997?profile=original
ATTENDEE;ROLE=REQ-PARTICIPANT;PARTSTAT=ACCEPTED;RSVP=TRUE;CN="Lyrical 
 Opposition":http://trueskool.com/profile/LyricalOpposition
END:VEVENT
END:VCALENDAR
