BEGIN:VCALENDAR
PRODID:NingEventWidget-v1
VERSION:2.0
METHOD:PUBLISH
BEGIN:VTIMEZONE
TZID:America/Los_Angeles
X-LIC-LOCATION:America/Los_Angeles
BEGIN:DAYLIGHT
TZOFFSETFROM:-0800
TZOFFSETTO:-0700
TZNAME:PDT
DTSTART:19700308T020000
RRULE:FREQ=YEARLY;BYMONTH=3;BYDAY=2SU
END:DAYLIGHT
BEGIN:STANDARD
TZOFFSETFROM:-0700
TZOFFSETTO:-0800
TZNAME:PST
DTSTART:19701101T020000
RRULE:FREQ=YEARLY;BYMONTH=11;BYDAY=1SU
END:STANDARD
END:VTIMEZONE
BEGIN:VEVENT
UID:1464587:Event:455976
DTSTAMP:20260421T002227Z
SUMMARY:Underground Fridays @ Asia SF:  Halloween Edition
DESCRIPTION:This Friday night, October 31, 2014... Join 1221 Entertain
 ment and DJ 12 as we present Underground Fridays @ Asia SF: Halloween 
 Edition...Making last minute plans for Halloween? Well DJ 12, 1221 Ent
 ertainment and the staff at Asia SF has you covered... We're gonna set
  it off for a ghoulishly good time.DJ 12 & DJ A-1 in the mix all night
  spinning the hottest in EDM, Hip Hop, R&B, Club Hits and Old School.W
 ith a friendly staff, awesome bartenders (All of whom will be decked o
 ut in costumes and ready to make your night one to remember) and a gre
 at sound system, Asia SF is always a good choice for a night out on th
 e town.Asia SF offers COMPLIMENTARY COAT CHECK for those ladies who wa
 nt to dress a little more risque.ALSO FOR THE LADIES... FREE round of
  KAMIKAZES for any lady who gives their bra to the bartenders. This is
  a longstanding Asia SF tradition.Bottle service available (Liter bott
 les), inbox for pricing...Doors open at 9:00pm $5 ALL NIGHT IN COSTUM
 E... Dress Code (If not in costume):Dress to impress, no overly baggy
  clothing. Overall, the dress code is relaxed and security will always
  have the final say. This is a 21+ event...Asia SF is located at 201 
 9th St & Howard St in San Francisco, CA...\n\nFor more information vis
 it http://trueskool.com/events/underground-fridays-asia-sf-halloween-e
 dition
DTSTART;TZID=America/Los_Angeles:20141031T220000
DTEND;TZID=America/Los_Angeles:20141101T020000
CATEGORIES:"san francisco", soma, "south beach", bay, area
LOCATION:Asia SF, San Francisco, CA
WEBSITE:https://www.facebook.com/events/1490924771185698/?pnref=story
URL:https://www.facebook.com/events/1490924771185698/?pnref=story
CONTACT:
ORGANIZER;CN="Zeke Robinson":http://trueskool.com/profile/ZekeRobinson
 998
ATTACH;FMTTYPE="image/jpeg":http://storage.ning.com/topology/rest/1.0/
 file/get/2247971610?profile=original
ATTENDEE;ROLE=REQ-PARTICIPANT;PARTSTAT=ACCEPTED;RSVP=TRUE;CN="Zeke Rob
 inson":http://trueskool.com/profile/ZekeRobinson998
END:VEVENT
END:VCALENDAR
