BEGIN:VCALENDAR
PRODID:NingEventWidget-v1
VERSION:2.0
METHOD:PUBLISH
BEGIN:VTIMEZONE
TZID:America/Los_Angeles
X-LIC-LOCATION:America/Los_Angeles
BEGIN:DAYLIGHT
TZOFFSETFROM:-0800
TZOFFSETTO:-0700
TZNAME:PDT
DTSTART:19700308T020000
RRULE:FREQ=YEARLY;BYMONTH=3;BYDAY=2SU
END:DAYLIGHT
BEGIN:STANDARD
TZOFFSETFROM:-0700
TZOFFSETTO:-0800
TZNAME:PST
DTSTART:19701101T020000
RRULE:FREQ=YEARLY;BYMONTH=11;BYDAY=1SU
END:STANDARD
END:VTIMEZONE
BEGIN:VEVENT
UID:1464587:Event:551403
DTSTAMP:20260420T201421Z
SUMMARY:Tyler, the Creator (Miami)
DESCRIPTION:\nDate\nLocation\nEvent Details\nFind Tickets\n\n\nAPR  
 \n26\nSUN\n\nThe Fillmore Miami Beach at Jackie Gleason TheaterMiami B
 each, FL08:00 PM\n\n Tyler, the Creator  with special guest TacoDet
 ails: Tyler, the Creator,Taco\nSee Ticketson Live Nation\n\n\n\n\n\nFo
 r more information visit http://trueskool.com/events/tyler-the-creator
 -miami
DTSTART;TZID=America/Los_Angeles:20150426T200000
DTEND;TZID=America/Los_Angeles:20150426T230000
CATEGORIES:miami, florida, fla, mia
LOCATION:The Fillmore Miami Beach at Jackie Gleason Theater, Miami
WEBSITE:http://www.ticketmaster.com/partner_redirect?v=_Ex62kpgXJUg3j2
 UIjrcYRlvxH4xHQhQn7ytUcEn_6B6IVf0XTea58ZpBjWxCmsupdChgivXKQFo-kgKmPdVL
 ka2mI8kk1T_QhEXydKB6-P9Q2j35FI7cqtCMLnIlIWnrMYkaw&eventid=0D004E3EB2FA
 8BD5&artistid=1744607&artistname=Tyler,%20the%20Creator%20with%20speci
 al%20guest%20Taco&crosssite=TM_US:1744607:107452&tm_link=artist_msg-0_
 0D004E3EB2FA8BD5
URL:http://www.ticketmaster.com/partner_redirect?v=_Ex62kpgXJUg3j2UIjr
 cYRlvxH4xHQhQn7ytUcEn_6B6IVf0XTea58ZpBjWxCmsupdChgivXKQFo-kgKmPdVLka2m
 I8kk1T_QhEXydKB6-P9Q2j35FI7cqtCMLnIlIWnrMYkaw&eventid=0D004E3EB2FA8BD5
 &artistid=1744607&artistname=Tyler,%20the%20Creator%20with%20special%2
 0guest%20Taco&crosssite=TM_US:1744607:107452&tm_link=artist_msg-0_0D00
 4E3EB2FA8BD5
CONTACT:
ORGANIZER;CN="Editor's Pick":http://trueskool.com/profile/RentheVinylA
 rchaeologist
ATTACH;FMTTYPE="image/jpeg":http://storage.ning.com/topology/rest/1.0/
 file/get/2247972823?profile=original
ATTENDEE;ROLE=REQ-PARTICIPANT;PARTSTAT=ACCEPTED;RSVP=TRUE;CN="Editor's
  Pick":http://trueskool.com/profile/RentheVinylArchaeologist
END:VEVENT
END:VCALENDAR
