BEGIN:VCALENDAR
PRODID:NingEventWidget-v1
VERSION:2.0
METHOD:PUBLISH
BEGIN:VTIMEZONE
TZID:America/Los_Angeles
X-LIC-LOCATION:America/Los_Angeles
BEGIN:DAYLIGHT
TZOFFSETFROM:-0800
TZOFFSETTO:-0700
TZNAME:PDT
DTSTART:19700308T020000
RRULE:FREQ=YEARLY;BYMONTH=3;BYDAY=2SU
END:DAYLIGHT
BEGIN:STANDARD
TZOFFSETFROM:-0700
TZOFFSETTO:-0800
TZNAME:PST
DTSTART:19701101T020000
RRULE:FREQ=YEARLY;BYMONTH=11;BYDAY=1SU
END:STANDARD
END:VTIMEZONE
BEGIN:VEVENT
UID:1464587:Event:842226
DTSTAMP:20260423T062148Z
SUMMARY:TWISTA WITH LIVE BAND
DESCRIPTION:\r\nTHU APRIL 23, 2026TWISTA W/ LIVE BAND (Second show add
 ed by popular demand!)\r\n\r\nYoshi's 510 Embarcadero West, Oakland, C
 A 94607\r\nDOORS: 7:00PM SHOW: 7:30PM\r\nDOORS: 9:15PM SHOW: 9:30PM\r\
 n>> BUY TICKETS\r\n\r\n\n\nFor more information visit http://trueskool
 .com/events/twista-with-live-band-2
DTSTART;TZID=America/Los_Angeles:20260423T193000
DTEND;TZID=America/Los_Angeles:20260423T233000
CATEGORIES:"bay area", oakland, "san francisco", "san jose", berkeley
LOCATION:Yoshi's, Oakland
WEBSITE:https://yoshis.com/events/sold-out/twista/detail
URL:https://yoshis.com/events/sold-out/twista/detail
CONTACT:
ORGANIZER:Yoshi's
ATTACH;FMTTYPE="image/jpeg":https://storage.ning.com/topology/rest/1.0
 /file/get/31111068063?profile=original
ATTENDEE;ROLE=REQ-PARTICIPANT;PARTSTAT=ACCEPTED;RSVP=TRUE;CN="Editor's
  Pick":http://trueskool.com/profile/RentheVinylArchaeologist
END:VEVENT
END:VCALENDAR
