BEGIN:VCALENDAR
PRODID:NingEventWidget-v1
VERSION:2.0
METHOD:PUBLISH
BEGIN:VTIMEZONE
TZID:America/Los_Angeles
X-LIC-LOCATION:America/Los_Angeles
BEGIN:DAYLIGHT
TZOFFSETFROM:-0800
TZOFFSETTO:-0700
TZNAME:PDT
DTSTART:19700308T020000
RRULE:FREQ=YEARLY;BYMONTH=3;BYDAY=2SU
END:DAYLIGHT
BEGIN:STANDARD
TZOFFSETFROM:-0700
TZOFFSETTO:-0800
TZNAME:PST
DTSTART:19701101T020000
RRULE:FREQ=YEARLY;BYMONTH=11;BYDAY=1SU
END:STANDARD
END:VTIMEZONE
BEGIN:VEVENT
UID:1464587:Event:131522
DTSTAMP:20260420T152417Z
SUMMARY:TWISTA LIVE | GROOVETHEORY | 8.31.2012
DESCRIPTION:\n\nAugust 31st at 1015 FOLSOMTWISTA - LIVEHosted by Fran 
 Boogie King Most (KM/FM)Wild n Krazy Kids(Ruby Red I, Ant-1, $ir Tipp
 , Lo)Kevvy KevGroove Theory with Ivan (Pirate Djs)The Whooligan (40 L
 ove/Om Records)Miquel (KNT Dj)Limited discount presales at twista-101
 5.eventbrite.com/10-3am, 21+\n\n\n\n\nFor more information visit http:
 //trueskool.com/events/twista-live-groovetheory-8-31-2012
DTSTART;TZID=America/Los_Angeles:20120831T220000
DTEND;TZID=America/Los_Angeles:20120901T030000
CATEGORIES:san, francisco, ca
LOCATION:1015 Folsom, San Francisco
WEBSITE:http://twista-1015.eventbrite.com/
URL:http://twista-1015.eventbrite.com/
CONTACT:
ORGANIZER:Bayardo Rocha, Miquel Penn, Lorenzo Cornell, Agatha Rupniews
 ki
ATTACH;FMTTYPE="image/jpeg":http://storage.ning.com/topology/rest/1.0/
 file/get/2247922954?profile=original
ATTENDEE;ROLE=REQ-PARTICIPANT;PARTSTAT=ACCEPTED;RSVP=TRUE;CN="Agatha R
 upniewski":http://trueskool.com/profile/AgathaRupniewski634
END:VEVENT
END:VCALENDAR
