BEGIN:VCALENDAR
PRODID:NingEventWidget-v1
VERSION:2.0
METHOD:PUBLISH
BEGIN:VTIMEZONE
TZID:America/Los_Angeles
X-LIC-LOCATION:America/Los_Angeles
BEGIN:DAYLIGHT
TZOFFSETFROM:-0800
TZOFFSETTO:-0700
TZNAME:PDT
DTSTART:19700308T020000
RRULE:FREQ=YEARLY;BYMONTH=3;BYDAY=2SU
END:DAYLIGHT
BEGIN:STANDARD
TZOFFSETFROM:-0700
TZOFFSETTO:-0800
TZNAME:PST
DTSTART:19701101T020000
RRULE:FREQ=YEARLY;BYMONTH=11;BYDAY=1SU
END:STANDARD
END:VTIMEZONE
BEGIN:VEVENT
UID:1464587:Event:330750
DTSTAMP:20260421T132858Z
SUMMARY:Triple Threat DJs - Shortkut, Apollo & Vinroc @ MIGHTY 4/11 ||
  FREE w/ RSVP
DESCRIPTION: FRIDAY APRIL 11\nMighty presents \nTriple Threat DJs\nSho
 rtkut\nApollo \n& Vinroc\nHosted by Fran Boogie\n@ Mighty, 119 Utah St
 ., SF Open bar 9-10pm...\nALL EVENTS AT MIGHTY ARE 21+\nFree before 11
 :30pm \nw/ RSVP @ http://mightysf.eventbrite.com/\nBefore becoming a t
 rio, the Triple Threat DJs, comprising of legendary DJs Shortkut, Apol
 lo and Vinroc, all but conquered their genre. They were introduced to 
 the art form as youngsters through mobile DJing and evolved into world
 -renowned turntablists. Triple Threat represents the future of turntab
 lism, precisely because they’ve been so instrumental to its storied 
 past. Though they have championship-level skills at scratching and bea
 t-juggling they also know how to rock a party, produce music and creat
 e original compositions with two turntables. They are not just djs, tu
 rntablists, producers, musicians or club djs, they encompass all aspec
 ts.\n\nFor more information visit http://trueskool.com/events/triple-t
 hreat-djs-shortkut-apollo-vinroc-mighty-4-11-free-w-rsvp
DTSTART;TZID=America/Los_Angeles:20140411T210000
DTEND;TZID=America/Los_Angeles:20140412T030000
CATEGORIES:"bay area", "san francisco"
LOCATION:Mighty, San Francisco
WEBSITE:http://mightysf.eventbrite.com
URL:http://mightysf.eventbrite.com
CONTACT:
ORGANIZER:Mighty
ATTACH;FMTTYPE="image/jpeg":http://storage.ning.com/topology/rest/1.0/
 file/get/2247958365?profile=original
ATTENDEE;ROLE=REQ-PARTICIPANT;PARTSTAT=ACCEPTED;RSVP=TRUE;CN="Staff Pi
 ck":http://trueskool.com/profile/Ren
END:VEVENT
END:VCALENDAR
