BEGIN:VCALENDAR
PRODID:NingEventWidget-v1
VERSION:2.0
METHOD:PUBLISH
BEGIN:VTIMEZONE
TZID:America/Los_Angeles
X-LIC-LOCATION:America/Los_Angeles
BEGIN:DAYLIGHT
TZOFFSETFROM:-0800
TZOFFSETTO:-0700
TZNAME:PDT
DTSTART:19700308T020000
RRULE:FREQ=YEARLY;BYMONTH=3;BYDAY=2SU
END:DAYLIGHT
BEGIN:STANDARD
TZOFFSETFROM:-0700
TZOFFSETTO:-0800
TZNAME:PST
DTSTART:19701101T020000
RRULE:FREQ=YEARLY;BYMONTH=11;BYDAY=1SU
END:STANDARD
END:VTIMEZONE
BEGIN:VEVENT
UID:1464587:Event:633580
DTSTAMP:20260421T165419Z
SUMMARY:Tribute to The Jacka ft. Mob Figaz, Paul Wall, Zion I, Erk tha
  Jerk, Hosted by DJ Drama
DESCRIPTION: ENTER TO WIN A PAIR OF TICKETS. WINNER WILL BE DRAWN RAND
 OMLY AND ANNOUNCED 2 DAYS PRIOR TO EVENT. \n\n\n Wed, Aug 12, 2015 \n
 Tribute to The Jacka featuring:\nMob Figaz, Paul Wall, Zion I, Erk tha
  Jerk, Hosted by DJ Drama, + Hella Special Guests\nThe Regency Ballroo
 m 1300 Van Ness Avenue\nSan Francisco, CA 94109\nAges: All Ages\nDoors
  Open: 7:00PM. Show: 8:00PM\nPrice: $20.00\nDoor Price: $25.00\nOnsale
 : Wed, Jul 22, 2015 - 10:00AM PDT\n\n\n\n\nFor more information visit 
 http://trueskool.com/events/tribute-to-the-jacka-ft-mob-figaz-paul-wal
 l-zion-i-erk-tha-jerk-h
DTSTART;TZID=America/Los_Angeles:20150812T190000
DTEND;TZID=America/Los_Angeles:20150812T230000
CATEGORIES:"bay area", oakland
LOCATION:Regency Ballroom, SF
WEBSITE:http://www.axs.com/events/280897/mob-figaz-paul-wall-zion-i-er
 k-tha-jerk-hosted-by-dj-drama-hella-tickets?CID=REG_Jacka_TrueSkool
URL:http://www.axs.com/events/280897/mob-figaz-paul-wall-zion-i-erk-th
 a-jerk-hosted-by-dj-drama-hella-tickets?CID=REG_Jacka_TrueSkool
CONTACT:
ORGANIZER:Goldenvoice
ATTACH;FMTTYPE="image/jpeg":http://storage.ning.com/topology/rest/1.0/
 file/get/2247978366?profile=original
ATTENDEE;ROLE=REQ-PARTICIPANT;PARTSTAT=ACCEPTED;RSVP=TRUE;CN="Editor's
  Pick":http://trueskool.com/profile/RentheVinylArchaeologist
ATTENDEE;ROLE=REQ-PARTICIPANT;PARTSTAT=TENTATIVE;RSVP=TRUE;CN="Jon Sch
 roeder":http://trueskool.com/profile/JonSchroeder
END:VEVENT
END:VCALENDAR
