BEGIN:VCALENDAR
PRODID:NingEventWidget-v1
VERSION:2.0
METHOD:PUBLISH
BEGIN:VTIMEZONE
TZID:America/Los_Angeles
X-LIC-LOCATION:America/Los_Angeles
BEGIN:DAYLIGHT
TZOFFSETFROM:-0800
TZOFFSETTO:-0700
TZNAME:PDT
DTSTART:19700308T020000
RRULE:FREQ=YEARLY;BYMONTH=3;BYDAY=2SU
END:DAYLIGHT
BEGIN:STANDARD
TZOFFSETFROM:-0700
TZOFFSETTO:-0800
TZNAME:PST
DTSTART:19701101T020000
RRULE:FREQ=YEARLY;BYMONTH=11;BYDAY=1SU
END:STANDARD
END:VTIMEZONE
BEGIN:VEVENT
UID:1464587:Event:651865
DTSTAMP:20260420T140314Z
SUMMARY:Treasure Island Festival: HUSHcast Silent Disco
DESCRIPTION: SATURDAY, OCT 15-16 Treasure Island HUSHcast Silent Disco
 \nCelebrate 10 amazing years of Treasure Island Music Festival at the 
 Silent Disco presented by Flipflop wines. We proudly present to you an
 other brilliant lineup of incredible producers and DJs curated and pro
 duced by the silent disco afficionados at HUSHconcerts. On Saturday, O
 ctober 15, we put the hip on hop with sets by KPFA Radio \"Hard Knock 
 Radio\" legend Davey D, \"TruSkool's Ren the Vinyl Archaeologist and S
 oundPieces' Dj Dials. Themeset master Motion Potion will then do a pat
 ented set of \"West Coast Underground Hip Hop Roots\" before surrender
 ing the stage to a SECRET GUEST for the closing set. On Sunday we get 
 the dancing started at noon with SPLIT followed by Matt Hubert and a D
 J set by Bay Area live disco production team MANICS. Live electronic q
 uartet NVO will play a full band set followed by female production duo
  Body Party . All of this will take place at the end of a historic sea
 plane dock allowing you to literally dance above the water in TIMF's n
 ew location on Treasure Island. Special thanks to Flipflop wines for t
 heir generous support of this amazing day of music, proving that, yes,
  #youflippincan do a #hushcast\n @ Treasure Island Music Fest, San Fra
 ncisco Info: https://www.facebook.com/events/185334138539244/\nSATURDA
 Y, OCT 15-16\nTREASURE ISLAND MUSIC FESTIVAL Sigur Ros, Ice Cube, Jame
 s Blake, Purity Ring, ZHU, Glass Animals & many more! Treasure IslandS
 how: 12:00pm\n\n$159.50 â€“ 2-DAY GA Early Bird Ticket â€“ Sold Out â€
 “ Thank You! $179.50 â€“ 2-DAY GA Ticket** $335.00 â€“ 2-DAY VIP Ticke
 t\n*plus applicable service fees **available when Early Bird tickets s
 ell out\nwww.treasureislandfestival.com\n\nCOMPLIMENTARY SHUTTLES BILL
  GRAHAM CIVIC AUDITORIUM TO TREASURE ISLAND\nAll general admission and
  VIP tickets include complimentary bus pick-up from the Bill Graham Ci
 vic Auditorium in San Francisco to and from the festival site on Treas
 ure Island. You DO NOT have to have tickets in hand to board the shutt
 le and you will be able to purchase tickets at the box office if they 
 are still available. Shuttles will run on a continuous loop throughout
  the day beginning at 11:00am.\nBill Graham Civic Auditorium is locate
 d at 99 Grove Street in the heart of San Francisco adjacent to a numbe
 r of MUNI lines and the Civic Center BART station.\n\nFor more informa
 tion visit http://trueskool.com/events/treasure-island-music-festival-
 1
DTSTART;TZID=America/Los_Angeles:20161015T120000
DTEND;TZID=America/Los_Angeles:20161016T230000
CATEGORIES:"san francisco", oakland, berkley, "san jose", "bay area"
LOCATION:Treasure Island, San Francisco
WEBSITE:https://www.facebook.com/events/185334138539244/
URL:https://www.facebook.com/events/185334138539244/
CONTACT:
ORGANIZER:HUSHconcerts
ATTACH;FMTTYPE="image/jpeg":http://storage.ning.com/topology/rest/1.0/
 file/get/2247990050?profile=original
ATTENDEE;ROLE=REQ-PARTICIPANT;PARTSTAT=ACCEPTED;RSVP=TRUE;CN="Editor's
  Pick":http://trueskool.com/profile/RentheVinylArchaeologist
END:VEVENT
END:VCALENDAR
