BEGIN:VCALENDAR
PRODID:NingEventWidget-v1
VERSION:2.0
METHOD:PUBLISH
BEGIN:VTIMEZONE
TZID:America/Los_Angeles
X-LIC-LOCATION:America/Los_Angeles
BEGIN:DAYLIGHT
TZOFFSETFROM:-0800
TZOFFSETTO:-0700
TZNAME:PDT
DTSTART:19700308T020000
RRULE:FREQ=YEARLY;BYMONTH=3;BYDAY=2SU
END:DAYLIGHT
BEGIN:STANDARD
TZOFFSETFROM:-0700
TZOFFSETTO:-0800
TZNAME:PST
DTSTART:19701101T020000
RRULE:FREQ=YEARLY;BYMONTH=11;BYDAY=1SU
END:STANDARD
END:VTIMEZONE
BEGIN:VEVENT
UID:1464587:Event:652422
DTSTAMP:20260420T152142Z
SUMMARY:TRACY MORGAN: PICKING UP THE PIECES
DESCRIPTION:\nSunday, October 2, 2016\nTRACY MORGAN: PICKING UP THE PI
 ECES\n Fox Theater Oakland, CA Show: 8:00pm\n>> BUY TICKETS\n\n\nFor m
 ore information visit http://trueskool.com/events/tracy-morgan-picking
 -up-the-pieces
DTSTART;TZID=America/Los_Angeles:20161002T200000
DTEND;TZID=America/Los_Angeles:20161002T230000
CATEGORIES:"san francisco", oakland, berkley, "san jose", "bay area"
LOCATION:Fox Theater
WEBSITE:http://www.ticketmaster.com/event/1C0050DBB82F3A29?camefrom=CF
 C_ANOTHERPLANET_ts&brand=anotherplanet
URL:http://www.ticketmaster.com/event/1C0050DBB82F3A29?camefrom=CFC_AN
 OTHERPLANET_ts&brand=anotherplanet
CONTACT:
ORGANIZER;CN="Editor's Pick":http://trueskool.com/profile/RentheVinylA
 rchaeologist
ATTACH;FMTTYPE="image/jpeg":http://storage.ning.com/topology/rest/1.0/
 file/get/2247989669?profile=original
ATTENDEE;ROLE=REQ-PARTICIPANT;PARTSTAT=ACCEPTED;RSVP=TRUE;CN="Editor's
  Pick":http://trueskool.com/profile/RentheVinylArchaeologist
END:VEVENT
END:VCALENDAR
