BEGIN:VCALENDAR
PRODID:NingEventWidget-v1
VERSION:2.0
METHOD:PUBLISH
BEGIN:VTIMEZONE
TZID:America/Los_Angeles
X-LIC-LOCATION:America/Los_Angeles
BEGIN:DAYLIGHT
TZOFFSETFROM:-0800
TZOFFSETTO:-0700
TZNAME:PDT
DTSTART:19700308T020000
RRULE:FREQ=YEARLY;BYMONTH=3;BYDAY=2SU
END:DAYLIGHT
BEGIN:STANDARD
TZOFFSETFROM:-0700
TZOFFSETTO:-0800
TZNAME:PST
DTSTART:19701101T020000
RRULE:FREQ=YEARLY;BYMONTH=11;BYDAY=1SU
END:STANDARD
END:VTIMEZONE
BEGIN:VEVENT
UID:1464587:Event:330755
DTSTAMP:20260421T051434Z
SUMMARY:Town Futurists
DESCRIPTION:\nAs we dip deeper into the Ancient Future..we expose more
  stars in the Town with our 2nd Session...we invite you to come intera
 ct and build upon the legendary movement as we bring all elements toge
 ther....Live Art....Live Music...Dance Theatre...Fashion..etc..our goa
 l is to create a place to kick it and share what we do while we docume
 nt and transmit to the planet...shifting the reality with these collec
 tive vibrations\n\nFor more information visit http://trueskool.com/eve
 nts/town-futurists
DTSTART;TZID=America/Los_Angeles:20140402T210000
DTEND;TZID=America/Los_Angeles:20140403T020000
CATEGORIES:"bay area", oakland
LOCATION:The Legionnaire Saloon, Oakland
WEBSITE:https://www.facebook.com/events/610824388994041/
URL:https://www.facebook.com/events/610824388994041/
CONTACT:
ORGANIZER:Frequeasy Collective
ATTACH;FMTTYPE="image/jpeg":http://storage.ning.com/topology/rest/1.0/
 file/get/2247958737?profile=original
ATTENDEE;ROLE=REQ-PARTICIPANT;PARTSTAT=ACCEPTED;RSVP=TRUE;CN="Staff Pi
 ck":http://trueskool.com/profile/Ren
END:VEVENT
END:VCALENDAR
