BEGIN:VCALENDAR
PRODID:NingEventWidget-v1
VERSION:2.0
METHOD:PUBLISH
BEGIN:VTIMEZONE
TZID:America/Los_Angeles
X-LIC-LOCATION:America/Los_Angeles
BEGIN:DAYLIGHT
TZOFFSETFROM:-0800
TZOFFSETTO:-0700
TZNAME:PDT
DTSTART:19700308T020000
RRULE:FREQ=YEARLY;BYMONTH=3;BYDAY=2SU
END:DAYLIGHT
BEGIN:STANDARD
TZOFFSETFROM:-0700
TZOFFSETTO:-0800
TZNAME:PST
DTSTART:19701101T020000
RRULE:FREQ=YEARLY;BYMONTH=11;BYDAY=1SU
END:STANDARD
END:VTIMEZONE
BEGIN:VEVENT
UID:1464587:Event:689773
DTSTAMP:20260420T182203Z
SUMMARY:TOWER OF POWER
DESCRIPTION:ENTER TO WIN A PAIR OF TICKETS. WINNER WILL BE DRAWN RANDO
 MLY AND ANNOUNCED 2 DAYS PRIOR TO EVENT.\r\n\r\nSaturday, August 24, 2
 019\r\nTOWER OF POWER  Con Brio\r\nFox Theater 1807 Telegraph Ave. Oak
 land,CA Doors: 7:00pm | Show: 8:00pm\r\n$59.50 – General Admission F
 loor $79.50 – Reserved Seating $59.50 – Reserved Balcony\r\n*plus 
 applicable service fees\r\n>> BUY TICKETS\r\n\r\n\r\nFor an additional
  $50.00, you can opt in to upgrade your experience to include access t
 o the exclusive Telegraph Room before, during and after the show! Plea
 se note all Telegraph Room upgrades are subject to availability.\r\nJo
 in us at The Den one hour before doors for food & drinks!\r\nAll doors
  & show times subject to change\n\nFor more information visit http://t
 rueskool.com/events/tower-of-power-2
DTSTART;TZID=America/Los_Angeles:20190824T200000
DTEND;TZID=America/Los_Angeles:20190824T230000
CATEGORIES:"bay area", oakland, "san francisco", "san jose", berkeley
LOCATION:Fox Theater, Oakland
WEBSITE:https://www.ticketmaster.com/tower-of-power-oakland-california
 -08-24-2019/event/1C005639F54DA2FA?camefrom=CFC_ANOTHERPLANET_web&amp;
 amp;brand=anotherplanet
URL:https://www.ticketmaster.com/tower-of-power-oakland-california-08-
 24-2019/event/1C005639F54DA2FA?camefrom=CFC_ANOTHERPLANET_web&amp;amp;
 brand=anotherplanet
CONTACT:
ORGANIZER:Another Planet Entertainment
ATTACH;FMTTYPE="image/jpeg":https://storage.ning.com/topology/rest/1.0
 /file/get/3403480179?profile=original
ATTENDEE;ROLE=REQ-PARTICIPANT;PARTSTAT=ACCEPTED;RSVP=TRUE;CN="Editor's
  Pick":http://trueskool.com/profile/RentheVinylArchaeologist
END:VEVENT
END:VCALENDAR
